BEGIN:VCALENDAR
VERSION:2.0
PRODID:-//Holiday RV Park &amp; Campground - ECPv6.15.20//NONSGML v1.0//EN
CALSCALE:GREGORIAN
METHOD:PUBLISH
X-WR-CALNAME:Holiday RV Park &amp; Campground
X-ORIGINAL-URL:https://www.holidayparktc.com
X-WR-CALDESC:Events for Holiday RV Park &amp; Campground
REFRESH-INTERVAL;VALUE=DURATION:PT1H
X-Robots-Tag:noindex
X-PUBLISHED-TTL:PT1H
BEGIN:VTIMEZONE
TZID:America/New_York
BEGIN:DAYLIGHT
TZOFFSETFROM:-0500
TZOFFSETTO:-0400
TZNAME:EDT
DTSTART:20250309T070000
END:DAYLIGHT
BEGIN:STANDARD
TZOFFSETFROM:-0400
TZOFFSETTO:-0500
TZNAME:EST
DTSTART:20251102T060000
END:STANDARD
BEGIN:DAYLIGHT
TZOFFSETFROM:-0500
TZOFFSETTO:-0400
TZNAME:EDT
DTSTART:20260308T070000
END:DAYLIGHT
BEGIN:STANDARD
TZOFFSETFROM:-0400
TZOFFSETTO:-0500
TZNAME:EST
DTSTART:20261101T060000
END:STANDARD
BEGIN:DAYLIGHT
TZOFFSETFROM:-0500
TZOFFSETTO:-0400
TZNAME:EDT
DTSTART:20270314T070000
END:DAYLIGHT
BEGIN:STANDARD
TZOFFSETFROM:-0400
TZOFFSETTO:-0500
TZNAME:EST
DTSTART:20271107T060000
END:STANDARD
END:VTIMEZONE
BEGIN:VEVENT
DTSTART;TZID=America/New_York:20260904T120000
DTEND;TZID=America/New_York:20260904T210000
DTSTAMP:20260422T102616
CREATED:20260311T183800Z
LAST-MODIFIED:20260311T183803Z
UID:2504-1788523200-1788555600@www.holidayparktc.com
SUMMARY:Tot’s N Tot’s of Burgers
DESCRIPTION:We will have the Tot’s N Tot’s of Burgers food truck in the park. They have burgers\, tater tots and a variety of food mainly Mexican/American fusion.
URL:https://www.holidayparktc.com/event/tots-n-tots-of-burgers-7/
LOCATION:Private Beach for Guests Only
END:VEVENT
BEGIN:VEVENT
DTSTART;TZID=America/New_York:20260904T190000
DTEND;TZID=America/New_York:20260904T210000
DTSTAMP:20260422T102616
CREATED:20260407T140850Z
LAST-MODIFIED:20260407T140852Z
UID:2767-1788548400-1788555600@www.holidayparktc.com
SUMMARY:Live Music at the Beach: TC Knuckleheads Band and Duo
DESCRIPTION:Join us for live music at the beach! \n\n\n\nDave Barth has been performing around Michigan\, Florida\, and the Midwest for years at Festivals and Resorts. He currently also plays in the TC Knuckleheads as well as solo and duo – We play to and for the crowd\, taking requests and performing dance tunes to keep the crowd engaged. \n\n\n\nDave started playing guitar at age 9\, adding bass guitar to his repertoire in Jazz/Stage Band in High School as well as harmonica and has continued playing regularly throughout his musical career.  \n\n\n\nHis musical tastes are wide ranging from Rockabilly\, Classic Rock\, Current and Old Country\, R&B and artists such as Chris Stapleton\, James Taylor\, Bob Segar\, Tom Petty\, Lynyrd Skynyrd and Wilson Pickett playing a wide range of tunes to engage with a wide variety of requests.
URL:https://www.holidayparktc.com/event/live-music-at-the-beach-tc-knuckleheads-band-and-duo-2/
LOCATION:Private Beach for Guests Only
END:VEVENT
BEGIN:VEVENT
DTSTART;TZID=America/New_York:20260911T120000
DTEND;TZID=America/New_York:20260911T210000
DTSTAMP:20260422T102616
CREATED:20260311T184056Z
LAST-MODIFIED:20260311T184059Z
UID:2507-1789128000-1789160400@www.holidayparktc.com
SUMMARY:Tot’s N Tot’s of Burgers
DESCRIPTION:We will have the Tot’s N Tot’s of Burgers food truck in the park. They have burgers\, tater tots and a variety of food mainly Mexican/American fusion. 
URL:https://www.holidayparktc.com/event/tots-n-tots-of-burgers-8/
LOCATION:Private Beach for Guests Only
END:VEVENT
BEGIN:VEVENT
DTSTART;TZID=America/New_York:20260911T190000
DTEND;TZID=America/New_York:20260911T210000
DTSTAMP:20260422T102616
CREATED:20260414T134225Z
LAST-MODIFIED:20260414T134228Z
UID:2788-1789153200-1789160400@www.holidayparktc.com
SUMMARY:Live Music at the Beach: Christopher Thaxton
DESCRIPTION:Join us for live music at the beach. \n\n\n\nI’m an acoustic guitarist and vocalist with over 35 years of playing and singing. My style is rooted in folk‑inspired covers\, drawing from classic singer‑songwriters of the early ’70s like Cat Stevens\, James Taylor\, and The Beatles\, and carrying through to artists like David Gray\, Dave Matthews\, and newer favorites such as Noah Kahan and The Lumineers.  I utilize five distinct acoustic guitars—nylon\, 12-string\, two steel-string\, resonator and feature live foot percussion to create a rich\, soothing soundscape.
URL:https://www.holidayparktc.com/event/live-music-at-the-beach-christopher-thaxton-2/
LOCATION:Private Beach for Guests Only
END:VEVENT
BEGIN:VEVENT
DTSTART;TZID=America/New_York:20260925T190000
DTEND;TZID=America/New_York:20260927T110000
DTSTAMP:20260422T102616
CREATED:20260401T161140Z
LAST-MODIFIED:20260401T161527Z
UID:2729-1790362800-1790506800@www.holidayparktc.com
SUMMARY:Halloween Weekend #1
DESCRIPTION:Get ready for a SPOOKTACULAR Halloween Weekend! The Pavilion is your central hub for all the eerie excitement! \n\n\n\nFRIDAY NIGHT FRIGHTS! \n\n\n\nGather around the campfire at the Pavilion for chilling scary stories and a delicious s’mores roast. Then\, hold on tight for our thrilling hay rides! \n\n\n\nSATURDAY SHIVERS & FUN! \n\n\n\nWe kick off the day with creative fun: arts and crafts\, pumpkin carving\, and face painting\, all at the Pavilion. Followed by the moment you’ve been waiting for: show off your best look in the costume contest! \n\n\n\nDECORATE TO WIN! \n\n\n\nYour site is your canvas! Go all out decorating your campsite—you could win a prize for the best decorated site! \n\n\n\nNIGHTTIME CHILLS! \n\n\n\nAs darkness falls\, prepare for the terrifying Scare Trail! If you prefer a milder thrill\, our Boo Walk on the boardwalk is perfect for ghouls and goblins aged 12 and under. \n\n\n\nKeep your energy up! A fantastic food truck will be on site Saturday serving up tasty treats! \n\n\n\nSUNDAY FAREWELL! \n\n\n\nSwing by for coffee and donuts on Sunday morning and wave goodbye! \n\n\n\nDon’t miss out on the fun!
URL:https://www.holidayparktc.com/event/halloween-weekend-1-2/
END:VEVENT
BEGIN:VEVENT
DTSTART;TZID=America/New_York:20260926T120000
DTEND;TZID=America/New_York:20260926T210000
DTSTAMP:20260422T102616
CREATED:20260416T175510Z
LAST-MODIFIED:20260416T175511Z
UID:2805-1790424000-1790456400@www.holidayparktc.com
SUMMARY:Backwoods BBQ and Eats
DESCRIPTION:Come on down to the beach for some BBQ. We will have the Backwoods BBQ and Eats in the park serving up some delicious food.
URL:https://www.holidayparktc.com/event/backwoods-bbq-and-eats-3/
LOCATION:Private Beach for Guests Only
END:VEVENT
END:VCALENDAR