BEGIN:VCALENDAR
VERSION:2.0
PRODID:-//Holiday RV Park &amp; Campground - ECPv6.15.20//NONSGML v1.0//EN
CALSCALE:GREGORIAN
METHOD:PUBLISH
X-WR-CALNAME:Holiday RV Park &amp; Campground
X-ORIGINAL-URL:https://www.holidayparktc.com
X-WR-CALDESC:Events for Holiday RV Park &amp; Campground
REFRESH-INTERVAL;VALUE=DURATION:PT1H
X-Robots-Tag:noindex
X-PUBLISHED-TTL:PT1H
BEGIN:VTIMEZONE
TZID:America/New_York
BEGIN:DAYLIGHT
TZOFFSETFROM:-0500
TZOFFSETTO:-0400
TZNAME:EDT
DTSTART:20250309T070000
END:DAYLIGHT
BEGIN:STANDARD
TZOFFSETFROM:-0400
TZOFFSETTO:-0500
TZNAME:EST
DTSTART:20251102T060000
END:STANDARD
BEGIN:DAYLIGHT
TZOFFSETFROM:-0500
TZOFFSETTO:-0400
TZNAME:EDT
DTSTART:20260308T070000
END:DAYLIGHT
BEGIN:STANDARD
TZOFFSETFROM:-0400
TZOFFSETTO:-0500
TZNAME:EST
DTSTART:20261101T060000
END:STANDARD
BEGIN:DAYLIGHT
TZOFFSETFROM:-0500
TZOFFSETTO:-0400
TZNAME:EDT
DTSTART:20270314T070000
END:DAYLIGHT
BEGIN:STANDARD
TZOFFSETFROM:-0400
TZOFFSETTO:-0500
TZNAME:EST
DTSTART:20271107T060000
END:STANDARD
END:VTIMEZONE
BEGIN:VEVENT
DTSTART;TZID=America/New_York:20260807T120000
DTEND;TZID=America/New_York:20260807T210000
DTSTAMP:20260422T085257
CREATED:20260416T175033Z
LAST-MODIFIED:20260416T175035Z
UID:2803-1786104000-1786136400@www.holidayparktc.com
SUMMARY:Backwoods BBQ and Eats
DESCRIPTION:Come on down to the beach for some BBQ. We will have the Backwoods BBQ and Eats in the park serving up some delicious food.
URL:https://www.holidayparktc.com/event/backwoods-bbq-and-eats-2/
LOCATION:Private Beach for Guests Only
END:VEVENT
BEGIN:VEVENT
DTSTART;TZID=America/New_York:20260807T190000
DTEND;TZID=America/New_York:20260807T210000
DTSTAMP:20260422T085257
CREATED:20260325T164608Z
LAST-MODIFIED:20260401T170716Z
UID:2637-1786129200-1786136400@www.holidayparktc.com
SUMMARY:Live Music at the Beach: Reese Keelor
DESCRIPTION:Join us for live music at the beach. Reese does covers of jazz\, blues\, folk\, rock\, and singer songwriter material. From Paul Simon\, Tom Waits\, John Prine\, and many more.
URL:https://www.holidayparktc.com/event/live-music-at-the-beach-reese-keelor/
LOCATION:Private Beach for Guests Only
END:VEVENT
BEGIN:VEVENT
DTSTART;TZID=America/New_York:20260814T190000
DTEND;TZID=America/New_York:20260814T210000
DTSTAMP:20260422T085257
CREATED:20260401T163329Z
LAST-MODIFIED:20260401T171158Z
UID:2736-1786734000-1786741200@www.holidayparktc.com
SUMMARY:Live Music at the Beach: Doc Probes
DESCRIPTION:Join us for live music at the beach. \n\n\n\nBeach & Buffett with Doc Probes \n\n\n\nDive into the sun-soaked world of Jimmy Buffett and the beach life — where every song feels like a mini vacation!  This show celebrates the best of Margaritaville\, the Beach Boys\, and California Dreamin’. Grab your flip-flops\, bring your best Hawaiian shirt\, and join us for an evening of tropical vibes\, Surfin’ Safaris and Yacht Rock fun.
URL:https://www.holidayparktc.com/event/live-music-at-the-beach-doc-probes-2/
LOCATION:Private Beach for Guests Only
END:VEVENT
BEGIN:VEVENT
DTSTART;TZID=America/New_York:20260821T120000
DTEND;TZID=America/New_York:20260821T210000
DTSTAMP:20260422T085257
CREATED:20260311T180506Z
LAST-MODIFIED:20260311T180745Z
UID:2489-1787313600-1787346000@www.holidayparktc.com
SUMMARY:Tot’s N Tot’s of Burgers
DESCRIPTION:We will have the Tot’s N Tot’s of Burgers food truck in the park. They have burgers\, tater tots and a variety of food mainly Mexican/American fusion.
URL:https://www.holidayparktc.com/event/tots-n-tots-of-burgers-5/
LOCATION:Private Beach for Guests Only
END:VEVENT
BEGIN:VEVENT
DTSTART;TZID=America/New_York:20260821T190000
DTEND;TZID=America/New_York:20260821T210000
DTSTAMP:20260422T085257
CREATED:20260402T175050Z
LAST-MODIFIED:20260402T175052Z
UID:2755-1787338800-1787346000@www.holidayparktc.com
SUMMARY:Live Music at the Beach: TC Knuckleheads Band and Duo
DESCRIPTION:Join us for live music at the beach! \n\n\n\nDave Barth has been performing around Michigan\, Florida\, and the Midwest for years at Festivals and Resorts. He currently also plays in the TC Knuckleheads as well as solo and duo – We play to and for the crowd\, taking requests and performing dance tunes to keep the crowd engaged. \n\n\n\nDave started playing guitar at age 9\, adding bass guitar to his repertoire in Jazz/Stage Band in High School as well as harmonica and has continued playing regularly throughout his musical career.  \n\n\n\nHis musical tastes are wide ranging from Rockabilly\, Classic Rock\, Current and Old Country\, R&B and artists such as Chris Stapleton\, James Taylor\, Bob Segar\, Tom Petty\, Lynyrd Skynyrd and Wilson Pickett playing a wide range of tunes to engage with a wide variety of requests.
URL:https://www.holidayparktc.com/event/live-music-at-the-beach-tc-knuckleheads-band-and-duo/
LOCATION:Private Beach for Guests Only
END:VEVENT
BEGIN:VEVENT
DTSTART;TZID=America/New_York:20260828T120000
DTEND;TZID=America/New_York:20260828T210000
DTSTAMP:20260422T085257
CREATED:20260311T183608Z
LAST-MODIFIED:20260311T183610Z
UID:2502-1787918400-1787950800@www.holidayparktc.com
SUMMARY:Tot’s N Tot’s of Burgers
DESCRIPTION:We will have the Tot’s N Tot’s of Burgers food truck in the park. They have burgers\, tater tots and a variety of food mainly Mexican/American fusion. 
URL:https://www.holidayparktc.com/event/tots-n-tots-of-burgers-6/
LOCATION:Private Beach for Guests Only
END:VEVENT
BEGIN:VEVENT
DTSTART;TZID=America/New_York:20260828T190000
DTEND;TZID=America/New_York:20260828T210000
DTSTAMP:20260422T085257
CREATED:20260414T134018Z
LAST-MODIFIED:20260414T134052Z
UID:2784-1787943600-1787950800@www.holidayparktc.com
SUMMARY:Live Music at the Beach: Christopher Thaxton
DESCRIPTION:Join us for live music at the beach. \n\n\n\nI’m an acoustic guitarist and vocalist with over 35 years of playing and singing. My style is rooted in folk‑inspired covers\, drawing from classic singer‑songwriters of the early ’70s like Cat Stevens\, James Taylor\, and The Beatles\, and carrying through to artists like David Gray\, Dave Matthews\, and newer favorites such as Noah Kahan and The Lumineers.  I utilize five distinct acoustic guitars—nylon\, 12-string\, two steel-string\, resonator and feature live foot percussion to create a rich\, soothing soundscape.
URL:https://www.holidayparktc.com/event/live-music-at-the-beach-christopher-thaxton/
LOCATION:Private Beach for Guests Only
END:VEVENT
END:VCALENDAR