BEGIN:VCALENDAR
VERSION:2.0
PRODID:-//Holiday RV Park &amp; Campground - ECPv6.15.20//NONSGML v1.0//EN
CALSCALE:GREGORIAN
METHOD:PUBLISH
X-ORIGINAL-URL:https://www.holidayparktc.com
X-WR-CALDESC:Events for Holiday RV Park &amp; Campground
REFRESH-INTERVAL;VALUE=DURATION:PT1H
X-Robots-Tag:noindex
X-PUBLISHED-TTL:PT1H
BEGIN:VTIMEZONE
TZID:America/New_York
BEGIN:DAYLIGHT
TZOFFSETFROM:-0500
TZOFFSETTO:-0400
TZNAME:EDT
DTSTART:20220313T070000
END:DAYLIGHT
BEGIN:STANDARD
TZOFFSETFROM:-0400
TZOFFSETTO:-0500
TZNAME:EST
DTSTART:20221106T060000
END:STANDARD
BEGIN:DAYLIGHT
TZOFFSETFROM:-0500
TZOFFSETTO:-0400
TZNAME:EDT
DTSTART:20230312T070000
END:DAYLIGHT
BEGIN:STANDARD
TZOFFSETFROM:-0400
TZOFFSETTO:-0500
TZNAME:EST
DTSTART:20231105T060000
END:STANDARD
BEGIN:DAYLIGHT
TZOFFSETFROM:-0500
TZOFFSETTO:-0400
TZNAME:EDT
DTSTART:20240310T070000
END:DAYLIGHT
BEGIN:STANDARD
TZOFFSETFROM:-0400
TZOFFSETTO:-0500
TZNAME:EST
DTSTART:20241103T060000
END:STANDARD
END:VTIMEZONE
BEGIN:VEVENT
DTSTART;TZID=America/New_York:20230903T000000
DTEND;TZID=America/New_York:20230903T000000
DTSTAMP:20260420T032404
CREATED:20241217T185228Z
LAST-MODIFIED:20241217T185228Z
UID:900-1693699200-1693699200@www.holidayparktc.com
SUMMARY:Ice Cream Truck
DESCRIPTION:Head down to the beach and enjoy a sweet treat!!\n \n 
URL:https://www.holidayparktc.com/event/ice-cream-truck/
LOCATION:Private Beach for Guests Only
CATEGORIES:Member Events,Public Events
ATTACH;FMTTYPE=image/jpeg:https://www.holidayparktc.com/wp-content/uploads/2024/12/irene-kredenets-tVs-nga-tpo-unsplash-scaled-nHBNnL.tmp_.jpg
END:VEVENT
BEGIN:VEVENT
DTSTART;TZID=America/New_York:20230901T180000
DTEND;TZID=America/New_York:20230901T200000
DTSTAMP:20260420T032404
CREATED:20241217T185341Z
LAST-MODIFIED:20241217T185341Z
UID:948-1693591200-1693598400@www.holidayparktc.com
SUMMARY:Music in the Park – Live with Drew Hale
DESCRIPTION:Bring your chair/blanket and enjoy some great music by Drew Hale with a beautiful view of Silver Lake.
URL:https://www.holidayparktc.com/event/music-in-the-park-live-with-drew-hale-2/
LOCATION:Private Beach for Guests Only
CATEGORIES:Member Events,Public Events
ATTACH;FMTTYPE=image/jpeg:https://www.holidayparktc.com/wp-content/uploads/2024/12/image0-2-TSZAFL.tmp_.jpg
END:VEVENT
BEGIN:VEVENT
DTSTART;TZID=America/New_York:20230901T160000
DTEND;TZID=America/New_York:20230901T200000
DTSTAMP:20260420T032404
CREATED:20241217T185335Z
LAST-MODIFIED:20241217T185335Z
UID:941-1693584000-1693598400@www.holidayparktc.com
SUMMARY:Food Truck
DESCRIPTION:Head down to the beach and enjoy the tastes of the Chubby Unicorn serving their fresh pressed paninis.\n \n 
URL:https://www.holidayparktc.com/event/food-truck-2/
LOCATION:Private Beach for Guests Only
CATEGORIES:Member Events,Public Events
ATTACH;FMTTYPE=image/jpeg:https://www.holidayparktc.com/wp-content/uploads/2024/12/IMG_1791-7VcwSJ.tmp_.jpg
END:VEVENT
BEGIN:VEVENT
DTSTART;TZID=America/New_York:20230901T093000
DTEND;TZID=America/New_York:20230930T113000
DTSTAMP:20260420T032404
CREATED:20241217T185411Z
LAST-MODIFIED:20241217T185411Z
UID:960-1693560600-1696073400@www.holidayparktc.com
SUMMARY:September Board Meeting
DESCRIPTION:This meeting date is TBD.
URL:https://www.holidayparktc.com/event/september-board-meeting/
LOCATION:Member Room
CATEGORIES:Member Events
ATTACH;FMTTYPE=image/jpeg:https://www.holidayparktc.com/wp-content/uploads/2024/12/team-2044760_1920-feeaQX.tmp_.jpg
END:VEVENT
BEGIN:VEVENT
DTSTART;TZID=America/New_York:20230812T100000
DTEND;TZID=America/New_York:20230812T190000
DTSTAMP:20260420T032404
CREATED:20241217T185416Z
LAST-MODIFIED:20241217T185416Z
UID:967-1691834400-1691866800@www.holidayparktc.com
SUMMARY:National Kids Day Celebration
DESCRIPTION:Join us for fun events throughout the Park for your children!\n10:00 am at the Pavilion – Tie Dye T-Shirt (bring your own or purchase a Holiday Park t-shirt) / Nature Walk / Scavenger Hunt / Crafts\n1:00 – 3:00 pm – Beach Party! – TC Dawgs Hot Dog Cart / Ice Creak Truck / Face Painting / Foam Machine / Swimming\n7:00 pm at the Pavilion – BINGO! (bring a candy bar to play) / Balloon Artist / Wiffle Ball
URL:https://www.holidayparktc.com/event/national-kids-day-celebration/
CATEGORIES:Member Events,Public Events
ATTACH;FMTTYPE=image/png:https://www.holidayparktc.com/wp-content/uploads/2024/12/kids-day-with-date-e1691422734848-PVVCAa.tmp_.png
END:VEVENT
BEGIN:VEVENT
DTSTART;TZID=America/New_York:20230806T090000
DTEND;TZID=America/New_York:20230806T120000
DTSTAMP:20260420T032404
CREATED:20241217T185339Z
LAST-MODIFIED:20241217T185339Z
UID:945-1691312400-1691323200@www.holidayparktc.com
SUMMARY:Volunteer Day – Nature Trail Build!
DESCRIPTION:We are partnering with seRV With Purpose by Lippert to help build a nature trail and we need volunteers to complete the project! Sign up at the link below and receive $5 off your stay\, along with lunch provided that day!\n>> SIGN UP TO VOLUNTEER HERE! <<
URL:https://www.holidayparktc.com/event/volunteer-day-nature-trail-build-3/
LOCATION:Holiday Park Campground
CATEGORIES:Member Events,Public Events
ATTACH;FMTTYPE=image/png:https://www.holidayparktc.com/wp-content/uploads/2024/12/servcrop-bGbRuh.tmp_.png
END:VEVENT
BEGIN:VEVENT
DTSTART;TZID=America/New_York:20230805T120000
DTEND;TZID=America/New_York:20230805T180000
DTSTAMP:20260420T032404
CREATED:20241217T185335Z
LAST-MODIFIED:20241217T185335Z
UID:942-1691236800-1691258400@www.holidayparktc.com
SUMMARY:Food Truck
DESCRIPTION:Head down to the beach and enjoy the tastes of the Chubby Unicorn serving their fresh pressed paninis.\n \n 
URL:https://www.holidayparktc.com/event/food-truck-3/
LOCATION:Private Beach for Guests Only
CATEGORIES:Member Events,Public Events
ATTACH;FMTTYPE=image/jpeg:https://www.holidayparktc.com/wp-content/uploads/2024/12/IMG_1791-7VcwSJ.tmp_.jpg
END:VEVENT
BEGIN:VEVENT
DTSTART;TZID=America/New_York:20230729T170000
DTEND;TZID=America/New_York:20230729T220000
DTSTAMP:20260420T032404
CREATED:20241217T185358Z
LAST-MODIFIED:20241217T185358Z
UID:957-1690650000-1690668000@www.holidayparktc.com
SUMMARY:50th Anniversary Weekend – DJ and Dancing at Hagerty Center
DESCRIPTION:Join us Saturday evening at the Hagerty Event Center\, located 0ff Grand Traverse Bay inside Northwest Michigan College Campus for dinner and dancing to live music. Dress is business casual with photo op! No shorts or tees\, please!  Commemorative Gift for Those Attending! (Invitations with RSVP coming in May!)
URL:https://www.holidayparktc.com/event/50th-anniversary-weekend-dj-and-dancing-at-hagerty-center/
LOCATION:Hagerty Center
CATEGORIES:Member Events
ATTACH;FMTTYPE=image/jpeg:https://www.holidayparktc.com/wp-content/uploads/2024/12/lucas-law-mJ-EWsOzmN4-unsplash-scaled-hmcf1r.tmp_.jpg
END:VEVENT
BEGIN:VEVENT
DTSTART;TZID=America/New_York:20230729T000000
DTEND;TZID=America/New_York:20230729T000000
DTSTAMP:20260420T032404
CREATED:20241217T185358Z
LAST-MODIFIED:20241217T185358Z
UID:958-1690588800-1690588800@www.holidayparktc.com
SUMMARY:50th Anniversary Weekend – Golf Scramble
DESCRIPTION:Join us Saturday morning – time TBA – at Interlochen Golf Course for a simple scramble with prizes. Get your 4 person team together!
URL:https://www.holidayparktc.com/event/50th-anniversary-weekend-golf-scramble/
LOCATION:Interlochen Golf Course
CATEGORIES:Member Events
ATTACH;FMTTYPE=image/jpeg:https://www.holidayparktc.com/wp-content/uploads/2024/12/robert-ruggiero-pI6IaynZQ_I-unsplash-scaled-q1RB1J.tmp_.jpg
END:VEVENT
BEGIN:VEVENT
DTSTART;TZID=America/New_York:20230728T170000
DTEND;TZID=America/New_York:20230728T220000
DTSTAMP:20260420T032404
CREATED:20241217T185411Z
LAST-MODIFIED:20241217T185411Z
UID:959-1690563600-1690581600@www.holidayparktc.com
SUMMARY:50th Anniversary Weekend – Pig Roast with DJ and Dancing!
DESCRIPTION:Join us under the tent for a pig roast\, featuring an exception menu! Come ready with your dancing shoes with our guest DJ! 70s attire welcome\, limbo too! Fun for “All the Family Members”!
URL:https://www.holidayparktc.com/event/50th-anniversary-weekend-pig-roast-with-dj-and-dancing/
LOCATION:Holiday Park Campground
CATEGORIES:Member Events
ATTACH;FMTTYPE=image/jpeg:https://www.holidayparktc.com/wp-content/uploads/2024/12/lucas-law-mJ-EWsOzmN4-unsplash-scaled-hmcf1r.tmp_.jpg
END:VEVENT
BEGIN:VEVENT
DTSTART;TZID=America/New_York:20230722T110000
DTEND;TZID=America/New_York:20230722T190000
DTSTAMP:20260420T032404
CREATED:20241217T185340Z
LAST-MODIFIED:20250311T184758Z
UID:946-1690023600-1690052400@www.holidayparktc.com
SUMMARY:Food Truck
DESCRIPTION:Head down to the beach and enjoy the tastes of Norma’s Tamales and Mexican Cuisine!\n\n \n 
URL:https://www.holidayparktc.com/event/food-truck-4/
LOCATION:Private Beach for Guests Only
CATEGORIES:Member Events,Public Events
ATTACH;FMTTYPE=image/jpeg:https://www.holidayparktc.com/wp-content/uploads/2024/12/tamales-9oea0t.tmp_.jpg
END:VEVENT
BEGIN:VEVENT
DTSTART;TZID=America/New_York:20230708T093000
DTEND;TZID=America/New_York:20230708T113000
DTSTAMP:20260420T032404
CREATED:20241217T185413Z
LAST-MODIFIED:20241217T185413Z
UID:962-1688808600-1688815800@www.holidayparktc.com
SUMMARY:July Board Meeting
DESCRIPTION:
URL:https://www.holidayparktc.com/event/july-board-meeting/
LOCATION:Member Room
CATEGORIES:Member Events
ATTACH;FMTTYPE=image/jpeg:https://www.holidayparktc.com/wp-content/uploads/2024/12/team-2044760_1920-feeaQX.tmp_.jpg
END:VEVENT
BEGIN:VEVENT
DTSTART;TZID=America/New_York:20230708T093000
DTEND;TZID=America/New_York:20230708T113000
DTSTAMP:20260420T032404
CREATED:20241217T185412Z
LAST-MODIFIED:20241217T185412Z
UID:961-1688808600-1688815800@www.holidayparktc.com
SUMMARY:August Board Meeting
DESCRIPTION:
URL:https://www.holidayparktc.com/event/august-board-meeting/
LOCATION:Member Room
CATEGORIES:Member Events
ATTACH;FMTTYPE=image/jpeg:https://www.holidayparktc.com/wp-content/uploads/2024/12/team-2044760_1920-feeaQX.tmp_.jpg
END:VEVENT
BEGIN:VEVENT
DTSTART;TZID=America/New_York:20230702T180000
DTEND;TZID=America/New_York:20230702T200000
DTSTAMP:20260420T032404
CREATED:20241217T185353Z
LAST-MODIFIED:20241217T185353Z
UID:951-1688320800-1688328000@www.holidayparktc.com
SUMMARY:Music in the Park – Live with Larz Cabot
DESCRIPTION:Bring your chair/blanket and enjoy some great music by Larz Cabot with a beautiful view of Silver Lake.
URL:https://www.holidayparktc.com/event/music-in-the-park-live-with-larz-cabot-3/
LOCATION:Private Beach for Guests Only
CATEGORIES:Member Events,Public Events
ATTACH;FMTTYPE=image/jpeg:https://www.holidayparktc.com/wp-content/uploads/2024/12/Larz-Cabot-JutRrY.tmp_.jpg
END:VEVENT
BEGIN:VEVENT
DTSTART;TZID=America/New_York:20230702T160000
DTEND;TZID=America/New_York:20230702T200000
DTSTAMP:20260420T032404
CREATED:20241217T185352Z
LAST-MODIFIED:20241217T185352Z
UID:949-1688313600-1688328000@www.holidayparktc.com
SUMMARY:Food Truck
DESCRIPTION:Head down to the beach and enjoy the tastes of Mac’s Shack!\n \n 
URL:https://www.holidayparktc.com/event/food-truck-5/
LOCATION:Private Beach for Guests Only
CATEGORIES:Member Events,Public Events
ATTACH;FMTTYPE=image/jpeg:https://www.holidayparktc.com/wp-content/uploads/2024/12/macsshack-ts8DQt.tmp_.jpg
END:VEVENT
BEGIN:VEVENT
DTSTART;TZID=America/New_York:20230702T150000
DTEND;TZID=America/New_York:20230702T200000
DTSTAMP:20260420T032404
CREATED:20241217T185352Z
LAST-MODIFIED:20241217T185352Z
UID:950-1688310000-1688328000@www.holidayparktc.com
SUMMARY:Ice Cream Truck
DESCRIPTION:Head down to the beach and enjoy a sweet treat with Sugar Buzz!\n \n 
URL:https://www.holidayparktc.com/event/ice-cream-truck-3/
LOCATION:Private Beach for Guests Only
CATEGORIES:Member Events,Public Events
ATTACH;FMTTYPE=image/jpeg:https://www.holidayparktc.com/wp-content/uploads/2024/12/sugar-buzz-gbone1.tmp_.jpg
END:VEVENT
BEGIN:VEVENT
DTSTART;TZID=America/New_York:20230701T180000
DTEND;TZID=America/New_York:20230701T200000
DTSTAMP:20260420T032404
CREATED:20241217T185340Z
LAST-MODIFIED:20241217T185340Z
UID:947-1688234400-1688241600@www.holidayparktc.com
SUMMARY:Halloween in the Park!
DESCRIPTION:Why wait for until October for Halloween\, we say!? Starting at 6p.m. on Saturday\, guests can meet in front of sites 66 and 67 on the Island for a hayride\, then trick-or-treating. Parade will continue to the patio outside the Holiday Room for a make-your-own sundae bar. All kids welcome\, any age. Costumes are encouraged\, but not necessary.
URL:https://www.holidayparktc.com/event/halloween-in-the-park-4/
CATEGORIES:Member Events,Public Events
ATTACH;FMTTYPE=image/jpeg:https://www.holidayparktc.com/wp-content/uploads/2024/12/nick-fewings-oPVNGh0hzdI-unsplash-scaled-V1tsoG.tmp_.jpg
END:VEVENT
BEGIN:VEVENT
DTSTART;TZID=America/New_York:20230625T090000
DTEND;TZID=America/New_York:20230625T110000
DTSTAMP:20260420T032404
CREATED:20241217T185427Z
LAST-MODIFIED:20241217T185430Z
UID:969-1687683600-1687690800@www.holidayparktc.com
SUMMARY:Donut Day
DESCRIPTION:All guests can join us in the Pavilion for complimentary donuts and coffee!\n \n 
URL:https://www.holidayparktc.com/event/donut-day/
CATEGORIES:Member Events,Public Events
ATTACH;FMTTYPE=image/jpeg:https://www.holidayparktc.com/wp-content/uploads/2024/12/elisa-kerschbaumer-930meLGrSEg-unsplash-scaled-0Fnnij.tmp_.jpg
END:VEVENT
BEGIN:VEVENT
DTSTART;TZID=America/New_York:20230610T093000
DTEND;TZID=America/New_York:20230610T113000
DTSTAMP:20260420T032404
CREATED:20241217T185413Z
LAST-MODIFIED:20241217T185413Z
UID:963-1686389400-1686396600@www.holidayparktc.com
SUMMARY:June Board Meeting
DESCRIPTION:
URL:https://www.holidayparktc.com/event/june-board-meeting/
LOCATION:Member Room
CATEGORIES:Member Events
ATTACH;FMTTYPE=image/jpeg:https://www.holidayparktc.com/wp-content/uploads/2024/12/team-2044760_1920-feeaQX.tmp_.jpg
END:VEVENT
BEGIN:VEVENT
DTSTART;TZID=America/New_York:20230528T180000
DTEND;TZID=America/New_York:20230528T193000
DTSTAMP:20260420T032404
CREATED:20241217T185354Z
LAST-MODIFIED:20241217T185354Z
UID:953-1685296800-1685302200@www.holidayparktc.com
SUMMARY:Music in the Park
DESCRIPTION:Come hang out by the water and enjoy the tunes with Jazz Cabbage!\nCheck out Jazz Cabbage on Spotify\, iTunes\, etc.\, “Off the Cuff” is about good summer vibes in Northern Michigan! https://open.spotify.com/artist/1qPCPvl09aJIl81EHiYbgf?si=DQhoEIUZRz-T8lmxL7SMLw&fbclid=IwAR0RsszneCh9mfv-Bp76G4EIILgoaMjiPljy9zMRjga4Uyf0Z2qNbdZznbw&nd=1
URL:https://www.holidayparktc.com/event/music-in-the-park/
LOCATION:Private Beach for Guests Only
CATEGORIES:Member Events,Public Events
ATTACH;FMTTYPE=image/jpeg:https://www.holidayparktc.com/wp-content/uploads/2024/12/jazz-nhy3JL.tmp_.jpg
END:VEVENT
BEGIN:VEVENT
DTSTART;TZID=America/New_York:20230528T160000
DTEND;TZID=America/New_York:20230528T190000
DTSTAMP:20260420T032404
CREATED:20241217T185357Z
LAST-MODIFIED:20241217T185357Z
UID:954-1685289600-1685300400@www.holidayparktc.com
SUMMARY:Ice Cream Truck
DESCRIPTION:Head down to the beach and enjoy a sweet treat with Sugar Buzz!\n \n 
URL:https://www.holidayparktc.com/event/ice-cream-truck-4/
LOCATION:Private Beach for Guests Only
CATEGORIES:Member Events,Public Events
ATTACH;FMTTYPE=image/jpeg:https://www.holidayparktc.com/wp-content/uploads/2024/12/sugar-buzz-gbone1.tmp_.jpg
END:VEVENT
BEGIN:VEVENT
DTSTART;TZID=America/New_York:20230528T120000
DTEND;TZID=America/New_York:20230528T160000
DTSTAMP:20260420T032404
CREATED:20241217T185427Z
LAST-MODIFIED:20241217T185430Z
UID:970-1685275200-1685289600@www.holidayparktc.com
SUMMARY:Cornhole Tournament
DESCRIPTION:Show off your skills and you could win a HPC beverage cooler! Join us on May 28th for our annual Cornhole Tournament!  Check in for the event will begin at 12:00pm with pizza and beverages. Tournament play will begin at 1:00pm. The tournament is open to all registered guests.\nSign up now! Click here > Registration Form \n \n 
URL:https://www.holidayparktc.com/event/cornhole-tournament/
CATEGORIES:Member Events,Public Events
ATTACH;FMTTYPE=image/png:https://www.holidayparktc.com/wp-content/uploads/2024/12/cornhole-nn9qvu.tmp_.png
END:VEVENT
BEGIN:VEVENT
DTSTART;TZID=America/New_York:20230527T110000
DTEND;TZID=America/New_York:20230527T190000
DTSTAMP:20260420T032404
CREATED:20241217T185357Z
LAST-MODIFIED:20241217T185357Z
UID:955-1685185200-1685214000@www.holidayparktc.com
SUMMARY:Food Truck
DESCRIPTION:Head down to the beach and enjoy the tastes of Norma’s Tamales and Mexican Cuisine!\n \n 
URL:https://www.holidayparktc.com/event/food-truck-6/
LOCATION:Private Beach for Guests Only
CATEGORIES:Member Events,Public Events
ATTACH;FMTTYPE=image/jpeg:https://www.holidayparktc.com/wp-content/uploads/2024/12/tamales-9oea0t.tmp_.jpg
END:VEVENT
BEGIN:VEVENT
DTSTART;TZID=America/New_York:20230513T130000
DTEND;TZID=America/New_York:20230513T180000
DTSTAMP:20260420T032404
CREATED:20241217T185358Z
LAST-MODIFIED:20241217T185358Z
UID:956-1683982800-1684000800@www.holidayparktc.com
SUMMARY:Spring Beer Festival at Turtle Creek Stadium
DESCRIPTION:The 2nd Annual Spring Beer Festival will take place on Saturday\, May 13\, 2023 at Turtle Creek Stadium (less than 5 minute drive from Holiday Park RV Park!). This popular event will feature hundreds of fresh\, local beers from some of the finest Michigan breweries\, and food available for purchase.
URL:https://www.holidayparktc.com/event/spring-beer-festival-at-turtle-creek-stadium/
LOCATION:Turtle Creek Stadium
CATEGORIES:Public Events
ATTACH;FMTTYPE=image/png:https://www.holidayparktc.com/wp-content/uploads/2024/12/Screenshot-2023-04-21-at-10.16.57-AM-85Hisg.tmp_.png
END:VEVENT
BEGIN:VEVENT
DTSTART;TZID=America/New_York:20230513T093000
DTEND;TZID=America/New_York:20230513T113000
DTSTAMP:20260420T032404
CREATED:20241217T185415Z
LAST-MODIFIED:20241217T185415Z
UID:964-1683970200-1683977400@www.holidayparktc.com
SUMMARY:May Board Meeting
DESCRIPTION:
URL:https://www.holidayparktc.com/event/may-board-meeting/
LOCATION:Member Room
CATEGORIES:Member Events
ATTACH;FMTTYPE=image/jpeg:https://www.holidayparktc.com/wp-content/uploads/2024/12/team-2044760_1920-feeaQX.tmp_.jpg
END:VEVENT
END:VCALENDAR