BEGIN:VCALENDAR
VERSION:2.0
PRODID:-//Holiday RV Park &amp; Campground - ECPv6.15.20//NONSGML v1.0//EN
CALSCALE:GREGORIAN
METHOD:PUBLISH
X-WR-CALNAME:Holiday RV Park &amp; Campground
X-ORIGINAL-URL:https://www.holidayparktc.com
X-WR-CALDESC:Events for Holiday RV Park &amp; Campground
REFRESH-INTERVAL;VALUE=DURATION:PT1H
X-Robots-Tag:noindex
X-PUBLISHED-TTL:PT1H
BEGIN:VTIMEZONE
TZID:America/New_York
BEGIN:DAYLIGHT
TZOFFSETFROM:-0500
TZOFFSETTO:-0400
TZNAME:EDT
DTSTART:20230312T070000
END:DAYLIGHT
BEGIN:STANDARD
TZOFFSETFROM:-0400
TZOFFSETTO:-0500
TZNAME:EST
DTSTART:20231105T060000
END:STANDARD
BEGIN:DAYLIGHT
TZOFFSETFROM:-0500
TZOFFSETTO:-0400
TZNAME:EDT
DTSTART:20240310T070000
END:DAYLIGHT
BEGIN:STANDARD
TZOFFSETFROM:-0400
TZOFFSETTO:-0500
TZNAME:EST
DTSTART:20241103T060000
END:STANDARD
BEGIN:DAYLIGHT
TZOFFSETFROM:-0500
TZOFFSETTO:-0400
TZNAME:EDT
DTSTART:20250309T070000
END:DAYLIGHT
BEGIN:STANDARD
TZOFFSETFROM:-0400
TZOFFSETTO:-0500
TZNAME:EST
DTSTART:20251102T060000
END:STANDARD
END:VTIMEZONE
BEGIN:VEVENT
DTSTART;TZID=America/New_York:20240727T170000
DTEND;TZID=America/New_York:20240727T200000
DTSTAMP:20260422T165712
CREATED:20241217T185152Z
LAST-MODIFIED:20241217T185152Z
UID:882-1722099600-1722110400@www.holidayparktc.com
SUMMARY:Music in the Park – Dave Barth (TC Knuckleheads)
DESCRIPTION:Bring your chair/blanket and enjoy some great music by Dave Barth with a beautiful view of Silver Lake.
URL:https://www.holidayparktc.com/event/music-in-the-park-dave-barth-tc-knuckleheads/
LOCATION:Private Beach for Guests Only
CATEGORIES:Member Events,Public Events
ATTACH;FMTTYPE=image/jpeg:https://www.holidayparktc.com/wp-content/uploads/2024/12/davebarth-RMFu4P.tmp_.jpg
END:VEVENT
BEGIN:VEVENT
DTSTART;TZID=America/New_York:20240721T000000
DTEND;TZID=America/New_York:20240721T000000
DTSTAMP:20260422T165712
CREATED:20241217T185154Z
LAST-MODIFIED:20241217T185154Z
UID:884-1721520000-1721520000@www.holidayparktc.com
SUMMARY:Donuts
DESCRIPTION:All guests can join us in the Pavilion for complimentary donuts and coffee!\n \n 
URL:https://www.holidayparktc.com/event/donuts-3/
LOCATION:Pavilion for Guest Use
CATEGORIES:Member Events,Public Events
ATTACH;FMTTYPE=image/jpeg:https://www.holidayparktc.com/wp-content/uploads/2024/12/elisa-kerschbaumer-930meLGrSEg-unsplash-scaled-0Fnnij.tmp_.jpg
END:VEVENT
BEGIN:VEVENT
DTSTART;TZID=America/New_York:20240720T100000
DTEND;TZID=America/New_York:20240720T120000
DTSTAMP:20260422T165712
CREATED:20241217T185237Z
LAST-MODIFIED:20241217T185237Z
UID:912-1721469600-1721476800@www.holidayparktc.com
SUMMARY:Bark in the Park and Cherryland Humane Society Adoption Event
DESCRIPTION:Join us for our annual Bark in the Park. Our friends at Cherryland Humane Society will be on site for a photo opportunity for pets & their humans. This is a fundraiser\, $45 includes 1 5×7 and 1 8×10 photo for your keepsake. All monies benefit the shelter. https://cherrylandhumane.org/
URL:https://www.holidayparktc.com/event/bark-in-the-park-and-cherryland-humane-society-adoption-event/
LOCATION:Holiday Park Campground
CATEGORIES:Member Events
ATTACH;FMTTYPE=image/jpeg:https://www.holidayparktc.com/wp-content/uploads/2024/12/20220718_205815-1-scaled-HsreAB.tmp_.jpg
END:VEVENT
BEGIN:VEVENT
DTSTART;TZID=America/New_York:20240718T113000
DTEND;TZID=America/New_York:20240718T133000
DTSTAMP:20260422T165712
CREATED:20241217T185233Z
LAST-MODIFIED:20241217T185233Z
UID:908-1721302200-1721309400@www.holidayparktc.com
SUMMARY:Ladies Luncheon at Oakeys
DESCRIPTION:Join us for ladies luncheon at Oakeys.
URL:https://www.holidayparktc.com/event/ladies-luncheon-at-oakeys/
CATEGORIES:Member Events
ATTACH;FMTTYPE=image/jpeg:https://www.holidayparktc.com/wp-content/uploads/2024/12/hermes-rivera-Ww8eQWjMJWk-unsplash-scaled-AoEnDC.tmp_.jpg
END:VEVENT
BEGIN:VEVENT
DTSTART;TZID=America/New_York:20240713T120000
DTEND;TZID=America/New_York:20240713T130000
DTSTAMP:20260422T165712
CREATED:20241217T185155Z
LAST-MODIFIED:20241217T185155Z
UID:885-1720872000-1720875600@www.holidayparktc.com
SUMMARY:Cookout on the Beach – Sponsored by Bish’s RV
DESCRIPTION:Enjoy a cookout lunch\, sponsored by our friends at Bish’s RV!
URL:https://www.holidayparktc.com/event/cookout-on-the-beach-sponsored-by-bishs-rv-2/
CATEGORIES:Member Events,Public Events
ATTACH;FMTTYPE=image/jpeg:https://www.holidayparktc.com/wp-content/uploads/2024/12/evan-wise-D99y38Na5Xo-unsplash-scaled-mC0PZc.tmp_.jpg
END:VEVENT
BEGIN:VEVENT
DTSTART;TZID=America/New_York:20240713T083000
DTEND;TZID=America/New_York:20240713T090000
DTSTAMP:20260422T165712
CREATED:20241217T185248Z
LAST-MODIFIED:20241217T185248Z
UID:916-1720859400-1720861200@www.holidayparktc.com
SUMMARY:Continental Breakfast for Members
DESCRIPTION:Join us for a continental breakfast before our Board meeting.
URL:https://www.holidayparktc.com/event/continental-breakfast-for-members-4/
LOCATION:Member Room
CATEGORIES:Member Events
ATTACH;FMTTYPE=image/jpeg:https://www.holidayparktc.com/wp-content/uploads/2024/12/elisa-kerschbaumer-930meLGrSEg-unsplash-scaled-0Fnnij.tmp_.jpg
END:VEVENT
BEGIN:VEVENT
DTSTART;TZID=America/New_York:20240712T170000
DTEND;TZID=America/New_York:20240712T190000
DTSTAMP:20260422T165712
CREATED:20241217T185248Z
LAST-MODIFIED:20241217T185248Z
UID:917-1720803600-1720810800@www.holidayparktc.com
SUMMARY:Member’s Appetizers
DESCRIPTION:Join us for appetizers in the members room!
URL:https://www.holidayparktc.com/event/members-appetizers-4/
LOCATION:Member Room
CATEGORIES:Member Events
ATTACH;FMTTYPE=image/jpeg:https://www.holidayparktc.com/wp-content/uploads/2024/12/francis-naung-u2r4Z0H0kSw-unsplash-scaled-l7CfUB.tmp_.jpg
END:VEVENT
BEGIN:VEVENT
DTSTART;TZID=America/New_York:20240706T180000
DTEND;TZID=America/New_York:20240706T200000
DTSTAMP:20260422T165712
CREATED:20241217T185157Z
LAST-MODIFIED:20241217T185157Z
UID:886-1720288800-1720296000@www.holidayparktc.com
SUMMARY:Music in the Park – Live with Big Rand
DESCRIPTION:Bring your chair/blanket and enjoy some great music by Big Rand with a beautiful view of Silver Lake.
URL:https://www.holidayparktc.com/event/music-in-the-park-live-with-big-rand-2/
LOCATION:Private Beach for Guests Only
CATEGORIES:Member Events,Public Events
ATTACH;FMTTYPE=image/jpeg:https://www.holidayparktc.com/wp-content/uploads/2024/12/bigrand-vnhnLV.tmp_.jpg
END:VEVENT
BEGIN:VEVENT
DTSTART;TZID=America/New_York:20240706T160000
DTEND;TZID=America/New_York:20240706T200000
DTSTAMP:20260422T165712
CREATED:20241217T185249Z
LAST-MODIFIED:20241217T185249Z
UID:918-1720281600-1720296000@www.holidayparktc.com
SUMMARY:Halloween in the Park
DESCRIPTION:Join us for Halloween fun. Trick or treating at 4PM\, hay ride\, then head to he Holiday Room for make your own sundae bar.
URL:https://www.holidayparktc.com/event/halloween-in-the-park/
LOCATION:Member Room
CATEGORIES:Member Events
ATTACH;FMTTYPE=image/jpeg:https://www.holidayparktc.com/wp-content/uploads/2024/12/david-menidrey-MYRG0ptGh50-unsplash-scaled-FHpYEa.tmp_.jpg
END:VEVENT
BEGIN:VEVENT
DTSTART;TZID=America/New_York:20240706T160000
DTEND;TZID=America/New_York:20240706T200000
DTSTAMP:20260422T165712
CREATED:20241217T185209Z
LAST-MODIFIED:20241217T185209Z
UID:888-1720281600-1720296000@www.holidayparktc.com
SUMMARY:Food Truck – Hogg’s Nest BBQ
DESCRIPTION:Head down to the beach and enjoy the tastes of Hogg’s Nest BBQ!\n \n \n 
URL:https://www.holidayparktc.com/event/food-truck-hoggs-nest-bbq/
LOCATION:Private Beach for Guests Only
CATEGORIES:Member Events,Public Events
ATTACH;FMTTYPE=image/jpeg:https://www.holidayparktc.com/wp-content/uploads/2024/12/hoggs-nest-AIWs7p.tmp_.jpg
END:VEVENT
BEGIN:VEVENT
DTSTART;TZID=America/New_York:20240705T110000
DTEND;TZID=America/New_York:20240705T190000
DTSTAMP:20260422T165712
CREATED:20241217T185209Z
LAST-MODIFIED:20241217T185209Z
UID:890-1720177200-1720206000@www.holidayparktc.com
SUMMARY:Food Truck – Norma’s Tamales
DESCRIPTION:Head down to the beach and enjoy the tastes of Norma’s Tamales and Mexican Cuisine!\n \n \n 
URL:https://www.holidayparktc.com/event/food-truck-normas-tamales-2/
LOCATION:Private Beach for Guests Only
CATEGORIES:Member Events,Public Events
ATTACH;FMTTYPE=image/jpeg:https://www.holidayparktc.com/wp-content/uploads/2024/12/tamales-9oea0t.tmp_.jpg
END:VEVENT
BEGIN:VEVENT
DTSTART;TZID=America/New_York:20240703T180000
DTEND;TZID=America/New_York:20240703T200000
DTSTAMP:20260422T165712
CREATED:20241217T185215Z
LAST-MODIFIED:20241217T185215Z
UID:894-1720029600-1720036800@www.holidayparktc.com
SUMMARY:Music in the Park – Live with Larz Cabot
DESCRIPTION:Bring your chair/blanket and enjoy some great music by Larz Cabot with a beautiful view of Silver Lake.
URL:https://www.holidayparktc.com/event/music-in-the-park-live-with-larz-cabot-2/
LOCATION:Private Beach for Guests Only
CATEGORIES:Member Events,Public Events
ATTACH;FMTTYPE=image/jpeg:https://www.holidayparktc.com/wp-content/uploads/2024/12/Larz-Cabot-JutRrY.tmp_.jpg
END:VEVENT
BEGIN:VEVENT
DTSTART;TZID=America/New_York:20240703T180000
DTEND;TZID=America/New_York:20240703T200000
DTSTAMP:20260422T165712
CREATED:20241217T185210Z
LAST-MODIFIED:20241217T185210Z
UID:891-1720029600-1720036800@www.holidayparktc.com
SUMMARY:Face Painting
DESCRIPTION:Join us at the beach for face painting!
URL:https://www.holidayparktc.com/event/face-painting-2/
ATTACH;FMTTYPE=image/jpeg:https://www.holidayparktc.com/wp-content/uploads/2024/12/austin-pacheco-H-6qEzh1uiA-unsplash-Xl29zm.tmp_.jpg
END:VEVENT
BEGIN:VEVENT
DTSTART;TZID=America/New_York:20240703T110000
DTEND;TZID=America/New_York:20240703T200000
DTSTAMP:20260422T165712
CREATED:20241217T185211Z
LAST-MODIFIED:20241217T185211Z
UID:893-1720004400-1720036800@www.holidayparktc.com
SUMMARY:Food Truck – The Toasted Pineapple
DESCRIPTION:Head down to the beach and enjoy the tastes of The Toasted Pineapple Snack Shack!\n \n 
URL:https://www.holidayparktc.com/event/food-truck-the-toasted-pineapple/
LOCATION:Private Beach for Guests Only
CATEGORIES:Member Events,Public Events
ATTACH;FMTTYPE=image/jpeg:https://www.holidayparktc.com/wp-content/uploads/2024/12/toastedpineapple-C2nbsm.tmp_.jpg
END:VEVENT
BEGIN:VEVENT
DTSTART;TZID=America/New_York:20240703T000000
DTEND;TZID=America/New_York:20240703T000000
DTSTAMP:20260422T165712
CREATED:20241217T185210Z
LAST-MODIFIED:20241217T185210Z
UID:892-1719964800-1719964800@www.holidayparktc.com
SUMMARY:Food Truck – TC Taco
DESCRIPTION:Head down to the beach and enjoy the tastes of TC Taco!\n \n 
URL:https://www.holidayparktc.com/event/food-truck-tc-taco/
LOCATION:Private Beach for Guests Only
CATEGORIES:Member Events,Public Events
ATTACH;FMTTYPE=image/jpeg:https://www.holidayparktc.com/wp-content/uploads/2024/12/TC-Taco-qKeBJ4.tmp_.jpg
END:VEVENT
BEGIN:VEVENT
DTSTART;TZID=America/New_York:20240702T110000
DTEND;TZID=America/New_York:20240702T200000
DTSTAMP:20260422T165712
CREATED:20241217T185215Z
LAST-MODIFIED:20241217T185215Z
UID:895-1719918000-1719950400@www.holidayparktc.com
SUMMARY:Food Truck – The Toasted Pineapple
DESCRIPTION:Head down to the beach and enjoy the tastes of The Toasted Pineapple Snack Shack!\n \n 
URL:https://www.holidayparktc.com/event/food-truck-the-toasted-pineapple-2/
LOCATION:Private Beach for Guests Only
CATEGORIES:Member Events,Public Events
ATTACH;FMTTYPE=image/jpeg:https://www.holidayparktc.com/wp-content/uploads/2024/12/toastedpineapple-C2nbsm.tmp_.jpg
END:VEVENT
BEGIN:VEVENT
DTSTART;TZID=America/New_York:20240630T180000
DTEND;TZID=America/New_York:20240630T200000
DTSTAMP:20260422T165712
CREATED:20241217T185229Z
LAST-MODIFIED:20241217T185229Z
UID:902-1719770400-1719777600@www.holidayparktc.com
SUMMARY:Music in the Park – Live with Drew Hale
DESCRIPTION:Bring your chair/blanket and enjoy some great music by Drew Hale with a beautiful view of Silver Lake.
URL:https://www.holidayparktc.com/event/music-in-the-park-live-with-drew-hale/
LOCATION:Private Beach for Guests Only
CATEGORIES:Member Events,Public Events
ATTACH;FMTTYPE=image/jpeg:https://www.holidayparktc.com/wp-content/uploads/2024/12/image0-2-TSZAFL.tmp_.jpg
END:VEVENT
BEGIN:VEVENT
DTSTART;TZID=America/New_York:20240630T120000
DTEND;TZID=America/New_York:20240630T200000
DTSTAMP:20260422T165712
CREATED:20241217T185217Z
LAST-MODIFIED:20241217T185217Z
UID:898-1719748800-1719777600@www.holidayparktc.com
SUMMARY:Food Truck – NOM NOM Ninja
DESCRIPTION:Head down to the beach and enjoy the tastes of NOM NOM Ninja!\n \n 
URL:https://www.holidayparktc.com/event/food-truck-nom-nom-ninja/
LOCATION:Private Beach for Guests Only
CATEGORIES:Member Events,Public Events
ATTACH;FMTTYPE=image/webp:https://www.holidayparktc.com/wp-content/uploads/2024/12/NomNom-i2Y88Y.tmp_.webp
END:VEVENT
BEGIN:VEVENT
DTSTART;TZID=America/New_York:20240630T120000
DTEND;TZID=America/New_York:20240630T170000
DTSTAMP:20260422T165712
CREATED:20241217T185216Z
LAST-MODIFIED:20241217T185216Z
UID:897-1719748800-1719766800@www.holidayparktc.com
SUMMARY:Ice Cream Truck – Let’s Roll With It
DESCRIPTION:Head down to the beach and enjoy the tastes of Let’s Roll With It\, rolled ice cream!\n \n 
URL:https://www.holidayparktc.com/event/ice-cream-truck-lets-roll-with-it/
LOCATION:Private Beach for Guests Only
CATEGORIES:Member Events,Public Events
ATTACH;FMTTYPE=image/jpeg:https://www.holidayparktc.com/wp-content/uploads/2024/12/Rollwithit-Jme6IA.tmp_.jpg
END:VEVENT
BEGIN:VEVENT
DTSTART;TZID=America/New_York:20240629T000000
DTEND;TZID=America/New_York:20240704T000000
DTSTAMP:20260422T165712
CREATED:20241217T185318Z
LAST-MODIFIED:20241217T185318Z
UID:933-1719619200-1720051200@www.holidayparktc.com
SUMMARY:4th of July and Cherry Festival
DESCRIPTION:There will be lots of great activities to enjoy around the park over the 4th of July weekend\, including live music\, food trucks\, Halloween in July with trick-or-treating and ice cream treats! Don’t forget to visit downtown Traverse City for the 98th National Cherry Festival (https://www.cherryfestival.org/)\nEvent times and more details to follow!\n \n 
URL:https://www.holidayparktc.com/event/4th-of-july-and-cherry-festival/
CATEGORIES:Member Events,Public Events
ATTACH;FMTTYPE=image/jpeg:https://www.holidayparktc.com/wp-content/uploads/2024/12/burak-tonc-bbxwU3HtRkM-unsplash-scaled-sB3elj.tmp_.jpg
END:VEVENT
BEGIN:VEVENT
DTSTART;TZID=America/New_York:20240627T090000
DTEND;TZID=America/New_York:20240627T100000
DTSTAMP:20260422T165712
CREATED:20241217T185112Z
LAST-MODIFIED:20241217T185112Z
UID:868-1719478800-1719482400@www.holidayparktc.com
SUMMARY:MAP Coffee and Donuts
DESCRIPTION:Join us for coffee and donuts in the Holiday Room.
URL:https://www.holidayparktc.com/event/map-coffee-and-donuts/
LOCATION:Member Room
CATEGORIES:Member Events
ATTACH;FMTTYPE=image/jpeg:https://www.holidayparktc.com/wp-content/uploads/2024/12/elisa-kerschbaumer-930meLGrSEg-unsplash-scaled-0Fnnij.tmp_.jpg
END:VEVENT
BEGIN:VEVENT
DTSTART;TZID=America/New_York:20240622T180000
DTEND;TZID=America/New_York:20240622T200000
DTSTAMP:20260422T165712
CREATED:20241217T185255Z
LAST-MODIFIED:20241217T185255Z
UID:919-1719079200-1719086400@www.holidayparktc.com
SUMMARY:Welcome Back Dinner for Members and Staff
DESCRIPTION:Welcome back! Join us for a dinner at the fire pit!
URL:https://www.holidayparktc.com/event/welcome-back-dinner-for-members-and-staff/
LOCATION:Community Fire Pit
CATEGORIES:Member Events
ATTACH;FMTTYPE=image/jpeg:https://www.holidayparktc.com/wp-content/uploads/2024/12/silverlake-ez2tsV.tmp_.jpg
END:VEVENT
BEGIN:VEVENT
DTSTART;TZID=America/New_York:20240622T000000
DTEND;TZID=America/New_York:20240622T000000
DTSTAMP:20260422T165712
CREATED:20241217T185321Z
LAST-MODIFIED:20241217T185321Z
UID:934-1719014400-1719014400@www.holidayparktc.com
SUMMARY:Fishing Derby
DESCRIPTION:Grab your trusty fishing rod and meet us at Silver Lake for a fun-filled fishing derby!\nKick off will begin at 9:00 a.m. on the beach! Submit your catch at 12:00 p.m. There will be divisions for 12 and under\, and 13 and up! Awards will be given for the following categories: Biggest overall – Biggest Bass – Biggest Pan Fish – Smallest Overall – Smallest Bass – Smallest Pan Fish\n \n 
URL:https://www.holidayparktc.com/event/fishing-derby/
CATEGORIES:Member Events,Public Events
ATTACH;FMTTYPE=image/jpeg:https://www.holidayparktc.com/wp-content/uploads/2024/12/brady-rogers-ZGRB8TMT6zQ-unsplash-scaled-b0RsCC.tmp_.jpg
END:VEVENT
BEGIN:VEVENT
DTSTART;TZID=America/New_York:20240622T000000
DTEND;TZID=America/New_York:20240622T000000
DTSTAMP:20260422T165712
CREATED:20241217T185229Z
LAST-MODIFIED:20241217T185229Z
UID:901-1719014400-1719014400@www.holidayparktc.com
SUMMARY:Food Truck – TC Taco
DESCRIPTION:Head down to the beach and enjoy the tastes of TC Taco!\n \n 
URL:https://www.holidayparktc.com/event/food-truck-tc-taco-2/
LOCATION:Private Beach for Guests Only
CATEGORIES:Member Events,Public Events
ATTACH;FMTTYPE=image/jpeg:https://www.holidayparktc.com/wp-content/uploads/2024/12/TC-Taco-qKeBJ4.tmp_.jpg
END:VEVENT
BEGIN:VEVENT
DTSTART;TZID=America/New_York:20240620T090000
DTEND;TZID=America/New_York:20240620T100000
DTSTAMP:20260422T165712
CREATED:20241217T185114Z
LAST-MODIFIED:20241217T185114Z
UID:869-1718874000-1718877600@www.holidayparktc.com
SUMMARY:MAP Coffee and Donuts
DESCRIPTION:Join us for coffee and donuts in the Holiday Room.
URL:https://www.holidayparktc.com/event/map-coffee-and-donuts-2/
LOCATION:Member Room
CATEGORIES:Member Events
ATTACH;FMTTYPE=image/jpeg:https://www.holidayparktc.com/wp-content/uploads/2024/12/elisa-kerschbaumer-930meLGrSEg-unsplash-scaled-0Fnnij.tmp_.jpg
END:VEVENT
BEGIN:VEVENT
DTSTART;TZID=America/New_York:20240619T090000
DTEND;TZID=America/New_York:20240619T120000
DTSTAMP:20260422T165712
CREATED:20241217T185231Z
LAST-MODIFIED:20241217T185231Z
UID:904-1718787600-1718798400@www.holidayparktc.com
SUMMARY:Nature Trail Build
DESCRIPTION:We are partnering with seRV With Purpose by Lippert to help build a nature trail and we need volunteers to complete the project! Sign up at the link HERE.\nhttps://servwithpurpose.com/listing/holiday-rv-park-nature-trail-build-traverse-city-mi-2/
URL:https://www.holidayparktc.com/event/nature-trail-build/
LOCATION:Holiday Park Campground
CATEGORIES:Member Events,Public Events
ATTACH;FMTTYPE=image/png:https://www.holidayparktc.com/wp-content/uploads/2024/12/servcrop-bGbRuh.tmp_.png
END:VEVENT
BEGIN:VEVENT
DTSTART;TZID=America/New_York:20240616T000000
DTEND;TZID=America/New_York:20240616T000000
DTSTAMP:20260422T165712
CREATED:20241217T185321Z
LAST-MODIFIED:20241217T185321Z
UID:935-1718496000-1718496000@www.holidayparktc.com
SUMMARY:Fathers’s Day
DESCRIPTION:Let’s celebrate all the amazing Dad’s in our lives! All guests can join us in the Pavilion for complimentary donuts and coffee!\nTime and more details to follow!\n \n 
URL:https://www.holidayparktc.com/event/fatherss-day/
CATEGORIES:Member Events,Public Events
ATTACH;FMTTYPE=image/jpeg:https://www.holidayparktc.com/wp-content/uploads/2024/12/steve-dimatteo-HjOgM76iUtE-unsplash-scaled-jr0buH.tmp_.jpg
END:VEVENT
BEGIN:VEVENT
DTSTART;TZID=America/New_York:20240613T113000
DTEND;TZID=America/New_York:20240613T133000
DTSTAMP:20260422T165712
CREATED:20241217T185256Z
LAST-MODIFIED:20241217T185256Z
UID:920-1718278200-1718285400@www.holidayparktc.com
SUMMARY:Ladies Luncheon
DESCRIPTION:Join us in the Holiday Room for ladies luncheon with food from the Olive Garden.
URL:https://www.holidayparktc.com/event/ladies-luncheon/
LOCATION:Member Room
CATEGORIES:Member Events
ATTACH;FMTTYPE=image/jpeg:https://www.holidayparktc.com/wp-content/uploads/2024/12/hermes-rivera-Ww8eQWjMJWk-unsplash-scaled-AoEnDC.tmp_.jpg
END:VEVENT
BEGIN:VEVENT
DTSTART;TZID=America/New_York:20240613T090000
DTEND;TZID=America/New_York:20240613T100000
DTSTAMP:20260422T165712
CREATED:20241217T185116Z
LAST-MODIFIED:20241217T185116Z
UID:870-1718269200-1718272800@www.holidayparktc.com
SUMMARY:MAP Coffee and Donuts
DESCRIPTION:Join us for coffee and donuts in the Holiday Room.
URL:https://www.holidayparktc.com/event/map-coffee-and-donuts-3/
LOCATION:Member Room
CATEGORIES:Member Events
ATTACH;FMTTYPE=image/jpeg:https://www.holidayparktc.com/wp-content/uploads/2024/12/elisa-kerschbaumer-930meLGrSEg-unsplash-scaled-0Fnnij.tmp_.jpg
END:VEVENT
BEGIN:VEVENT
DTSTART;TZID=America/New_York:20240605T170000
DTEND;TZID=America/New_York:20240605T180000
DTSTAMP:20260422T165712
CREATED:20241217T185230Z
LAST-MODIFIED:20241217T185230Z
UID:903-1717606800-1717610400@www.holidayparktc.com
SUMMARY:Card Making for Hospitalized Children – SeRV with Purpose
DESCRIPTION:Join us and our friends at seRV With Purpose by Lippert to make cards for hospitalized children that are facing tough medical diagnosis and long hospital stays! Sign up at the link HERE.\nWHERE WILL WE BE SENDING THE CARDS:\nWe will be sending the cards to Cards for Hospitalized Kids (CFHK). CFHK is a 501(c)(3) certified nonprofitable charitable organization that spreads hope\, joy\, and magic to hospitalized kids across America through uplifting\, handmade cards. CFHK distributes cards monthly to Children’s Hospitals and Ronald McDonald Houses in all 50 states.\nhttps://servwithpurpose.com/listing/card-making-for-hospitalized-children-traverse-city-mi
URL:https://www.holidayparktc.com/event/card-making-for-hospitalized-children-serv-with-purpose/
LOCATION:Holiday Park Campground
CATEGORIES:Member Events,Public Events
ATTACH;FMTTYPE=image/png:https://www.holidayparktc.com/wp-content/uploads/2024/12/servcrop-bGbRuh.tmp_.png
END:VEVENT
END:VCALENDAR