BEGIN:VCALENDAR
VERSION:2.0
PRODID:-//Holiday RV Park &amp; Campground - ECPv6.15.20//NONSGML v1.0//EN
CALSCALE:GREGORIAN
METHOD:PUBLISH
X-ORIGINAL-URL:https://www.holidayparktc.com
X-WR-CALDESC:Events for Holiday RV Park &amp; Campground
REFRESH-INTERVAL;VALUE=DURATION:PT1H
X-Robots-Tag:noindex
X-PUBLISHED-TTL:PT1H
BEGIN:VTIMEZONE
TZID:America/New_York
BEGIN:DAYLIGHT
TZOFFSETFROM:-0500
TZOFFSETTO:-0400
TZNAME:EDT
DTSTART:20240310T070000
END:DAYLIGHT
BEGIN:STANDARD
TZOFFSETFROM:-0400
TZOFFSETTO:-0500
TZNAME:EST
DTSTART:20241103T060000
END:STANDARD
BEGIN:DAYLIGHT
TZOFFSETFROM:-0500
TZOFFSETTO:-0400
TZNAME:EDT
DTSTART:20250309T070000
END:DAYLIGHT
BEGIN:STANDARD
TZOFFSETFROM:-0400
TZOFFSETTO:-0500
TZNAME:EST
DTSTART:20251102T060000
END:STANDARD
BEGIN:DAYLIGHT
TZOFFSETFROM:-0500
TZOFFSETTO:-0400
TZNAME:EDT
DTSTART:20260308T070000
END:DAYLIGHT
BEGIN:STANDARD
TZOFFSETFROM:-0400
TZOFFSETTO:-0500
TZNAME:EST
DTSTART:20261101T060000
END:STANDARD
END:VTIMEZONE
BEGIN:VEVENT
DTSTART;TZID=America/New_York:20251005T090000
DTEND;TZID=America/New_York:20251005T110000
DTSTAMP:20260420T013653
CREATED:20250228T164729Z
LAST-MODIFIED:20250228T164731Z
UID:1557-1759654800-1759662000@www.holidayparktc.com
SUMMARY:Coffee\, Cider & Donuts
DESCRIPTION:Join us at the pavilion near site 141
URL:https://www.holidayparktc.com/event/coffee-cider-donuts-2/
END:VEVENT
BEGIN:VEVENT
DTSTART;TZID=America/New_York:20251003T170000
DTEND;TZID=America/New_York:20251005T110000
DTSTAMP:20260420T013653
CREATED:20250228T170219Z
LAST-MODIFIED:20250604T210752Z
UID:1567-1759510800-1759662000@www.holidayparktc.com
SUMMARY:Halloween Weekend 2
DESCRIPTION:Trick or Treating\, Costume Contest\, Site Decorating Contest\, S’mores\, Hayrides\, Pumpkin carving\, Crafts\, Face Painting\, Cider & Donuts
URL:https://www.holidayparktc.com/event/halloween-weekend-2/
END:VEVENT
BEGIN:VEVENT
DTSTART;TZID=America/New_York:20250928T090000
DTEND;TZID=America/New_York:20250928T110000
DTSTAMP:20260420T013653
CREATED:20250228T164616Z
LAST-MODIFIED:20250228T164617Z
UID:1555-1759050000-1759057200@www.holidayparktc.com
SUMMARY:Coffee\, Cider & Donuts
DESCRIPTION:Join us at the pavilion near site 141
URL:https://www.holidayparktc.com/event/coffee-cider-donuts/
END:VEVENT
BEGIN:VEVENT
DTSTART;TZID=America/New_York:20250926T170000
DTEND;TZID=America/New_York:20250928T110000
DTSTAMP:20260420T013653
CREATED:20250228T165958Z
LAST-MODIFIED:20250604T210727Z
UID:1565-1758906000-1759057200@www.holidayparktc.com
SUMMARY:Halloween Weekend 1
DESCRIPTION:Trick or Treating\, Costume Contest\, Site Decorating Contest\, S’mores\, Hayrides\, Pumpkin carving\, Crafts\, Face Painting\, Cider & Donuts
URL:https://www.holidayparktc.com/event/halloween-weekend-1/
END:VEVENT
BEGIN:VEVENT
DTSTART;TZID=America/New_York:20250914T080000
DTEND;TZID=America/New_York:20250921T170000
DTSTAMP:20260420T013653
CREATED:20241223T142859Z
LAST-MODIFIED:20250226T175517Z
UID:1110-1757836800-1758474000@www.holidayparktc.com
SUMMARY:Great Lakes Regional Rally
DESCRIPTION:Great Lakes Regional Rally September 14 – 21\, 2025  \nMontana Owners
URL:https://www.holidayparktc.com/event/great-lakes-regional-rally/
CATEGORIES:Public Events
END:VEVENT
BEGIN:VEVENT
DTSTART;TZID=America/New_York:20250904T140000
DTEND;TZID=America/New_York:20250907T110000
DTSTAMP:20260420T013653
CREATED:20241223T142713Z
LAST-MODIFIED:20250227T173947Z
UID:1108-1756994400-1757242800@www.holidayparktc.com
SUMMARY:Traverse City Alliance FamAlly Rally
DESCRIPTION:We are excited for our 3rd Rally and to share this amazing campground and the greater Traverse City\, Michigan area with all our fellow Alliance owners!   \n\n\n\nRegistration open until July 31\, 2025 or until all spots are filled.   \n\n\n\nPlease fill out the registration form at this link and the campground will give you a call for the deposit.  Please do not book online as the sites for the rally are set aside for those who fill out the form.  Registration Link
URL:https://www.holidayparktc.com/event/alliance-famally-traverse-city-rally/
CATEGORIES:Public Events
END:VEVENT
BEGIN:VEVENT
DTSTART;TZID=America/New_York:20250830T110000
DTEND;TZID=America/New_York:20250830T190000
DTSTAMP:20260420T013653
CREATED:20250418T133618Z
LAST-MODIFIED:20250418T162526Z
UID:1788-1756551600-1756580400@www.holidayparktc.com
SUMMARY:Bougie Brisket Food Truck
DESCRIPTION:Come get your Bougie on with some Brisket at the beach
URL:https://www.holidayparktc.com/event/bougie-brisket-food-truck-2/
END:VEVENT
BEGIN:VEVENT
DTSTART;TZID=America/New_York:20250828T180000
DTEND;TZID=America/New_York:20250828T200000
DTSTAMP:20260420T013653
CREATED:20250318T153842Z
LAST-MODIFIED:20250819T202243Z
UID:1685-1756404000-1756411200@www.holidayparktc.com
SUMMARY:Music Chris Thaxton
DESCRIPTION:Join us at the pavilion to enjoy this one-man band easy listening acoustic style performance!
URL:https://www.holidayparktc.com/event/music-w-neighborhood-dogs-2/
END:VEVENT
BEGIN:VEVENT
DTSTART;TZID=America/New_York:20250823T110000
DTEND;TZID=America/New_York:20250823T190000
DTSTAMP:20260420T013653
CREATED:20250421T194906Z
LAST-MODIFIED:20250421T194915Z
UID:1816-1755946800-1755975600@www.holidayparktc.com
SUMMARY:Mac Attack Food Truck
DESCRIPTION:Come enjoy a twist on macaroni at the beach
URL:https://www.holidayparktc.com/event/mac-attack-food-truck/
END:VEVENT
BEGIN:VEVENT
DTSTART;TZID=America/New_York:20250821T073000
DTEND;TZID=America/New_York:20250821T200000
DTSTAMP:20260420T013653
CREATED:20250318T151128Z
LAST-MODIFIED:20250418T162441Z
UID:1683-1755761400-1755806400@www.holidayparktc.com
SUMMARY:Music w/Doc Probes
DESCRIPTION:Come listen and sing along with Doc Probes at the beach. Check him out at Docprobes.com
URL:https://www.holidayparktc.com/event/music-w-doc-probes-2/
END:VEVENT
BEGIN:VEVENT
DTSTART;TZID=America/New_York:20250817T090000
DTEND;TZID=America/New_York:20250817T110000
DTSTAMP:20260420T013653
CREATED:20250228T164434Z
LAST-MODIFIED:20250228T164436Z
UID:1553-1755421200-1755428400@www.holidayparktc.com
SUMMARY:Coffee & Donuts
DESCRIPTION:Join us at the pavilion near site 141
URL:https://www.holidayparktc.com/event/coffee-donuts-2/
END:VEVENT
BEGIN:VEVENT
DTSTART;TZID=America/New_York:20250814T180000
DTEND;TZID=America/New_York:20250814T200000
DTSTAMP:20260420T013653
CREATED:20250417T171956Z
LAST-MODIFIED:20250418T162508Z
UID:1784-1755194400-1755201600@www.holidayparktc.com
SUMMARY:Music w/Reese Keelor
DESCRIPTION:Come enjoy some great tunes down at the beach with Reese Keelor
URL:https://www.holidayparktc.com/event/music-w-reese-keelor-2/
END:VEVENT
BEGIN:VEVENT
DTSTART;TZID=America/New_York:20250809T110000
DTEND;TZID=America/New_York:20250809T190000
DTSTAMP:20260420T013653
CREATED:20250809T150003Z
LAST-MODIFIED:20250720T202954Z
UID:1618-1754737200-1754766000@www.holidayparktc.com
SUMMARY:Backwoods BBQ & Eats
DESCRIPTION:Enjoy the beach and BBQ today for lunch or dinner or both!
URL:https://www.holidayparktc.com/event/roll-model/
END:VEVENT
BEGIN:VEVENT
DTSTART;TZID=America/New_York:20250809T100000
DTEND;TZID=America/New_York:20250809T140000
DTSTAMP:20260420T013653
CREATED:20250228T165422Z
LAST-MODIFIED:20250228T165424Z
UID:1562-1754733600-1754748000@www.holidayparktc.com
SUMMARY:Celebrate Kids Day
DESCRIPTION:Bring the kids to the pavilion for fun crafts\, face painting\, and more! Then we head to the beach for the giant foam fun!
URL:https://www.holidayparktc.com/event/celebrate-kids-day/
END:VEVENT
BEGIN:VEVENT
DTSTART;TZID=America/New_York:20250807T180000
DTEND;TZID=America/New_York:20250807T200000
DTSTAMP:20260420T013653
CREATED:20250312T182705Z
LAST-MODIFIED:20250318T154206Z
UID:1614-1754589600-1754596800@www.holidayparktc.com
SUMMARY:Music w/Neighborhood Dogs
DESCRIPTION:Come rock out with this rock n’ roll band at the beach. To pre listen go to SoundCloud and look up “The Neighborhood Dogs
URL:https://www.holidayparktc.com/event/music-w-neighborhood-dogs/
END:VEVENT
BEGIN:VEVENT
DTSTART;TZID=America/New_York:20250802T110000
DTEND;TZID=America/New_York:20250802T190000
DTSTAMP:20260420T013653
CREATED:20250312T142324Z
LAST-MODIFIED:20250729T181913Z
UID:1612-1754132400-1754161200@www.holidayparktc.com
SUMMARY:Guiseppi Concessions Food Truck
DESCRIPTION:All your favorite concession style food @ the beach today.
URL:https://www.holidayparktc.com/event/tc-taco-truck-2/
END:VEVENT
BEGIN:VEVENT
DTSTART;TZID=America/New_York:20250731T060000
DTEND;TZID=America/New_York:20250731T200000
DTSTAMP:20260420T013653
CREATED:20250516T182040Z
LAST-MODIFIED:20250516T182042Z
UID:1889-1753941600-1753992000@www.holidayparktc.com
SUMMARY:Music w/Les Older
DESCRIPTION:Come enjoy some good music from a Northern Michigan Gem
URL:https://www.holidayparktc.com/event/music-w-les-older/
END:VEVENT
BEGIN:VEVENT
DTSTART;TZID=America/New_York:20250726T110000
DTEND;TZID=America/New_York:20250726T190000
DTSTAMP:20260420T013653
CREATED:20250416T162319Z
LAST-MODIFIED:20250418T162400Z
UID:1776-1753527600-1753556400@www.holidayparktc.com
SUMMARY:Toasted Pineapple Food Truck
DESCRIPTION:Come enjoy a twist on soft pretzels at the beach
URL:https://www.holidayparktc.com/event/toasted-pineapple-food-truck/
END:VEVENT
BEGIN:VEVENT
DTSTART;TZID=America/New_York:20250724T180000
DTEND;TZID=America/New_York:20250724T200000
DTSTAMP:20260420T013653
CREATED:20250417T171756Z
LAST-MODIFIED:20250724T203447Z
UID:1782-1753380000-1753387200@www.holidayparktc.com
SUMMARY:Music w/Reese Keelor
DESCRIPTION:Bring a chair and join us with some music by Reese Keelor at the pavilion near site 141
URL:https://www.holidayparktc.com/event/music-w-reese-keelor/
END:VEVENT
BEGIN:VEVENT
DTSTART;TZID=America/New_York:20250720T090000
DTEND;TZID=America/New_York:20250720T110000
DTSTAMP:20260420T013653
CREATED:20250228T164315Z
LAST-MODIFIED:20250228T164316Z
UID:1551-1753002000-1753009200@www.holidayparktc.com
SUMMARY:Coffee & Donuts
DESCRIPTION:Join us at the pavilion near site 141
URL:https://www.holidayparktc.com/event/coffee-donuts/
END:VEVENT
BEGIN:VEVENT
DTSTART;TZID=America/New_York:20250719T110000
DTEND;TZID=America/New_York:20250719T190000
DTSTAMP:20260420T013653
CREATED:20250312T135209Z
LAST-MODIFIED:20250424T163233Z
UID:1604-1752922800-1752951600@www.holidayparktc.com
SUMMARY:Mac Attack Food Truck
DESCRIPTION:Come and see us at the beach for some mouthwatering goodness\, Traverse City’s best Macaroni
URL:https://www.holidayparktc.com/event/chubby-unicorn/
END:VEVENT
BEGIN:VEVENT
DTSTART;TZID=America/New_York:20250719T100000
DTEND;TZID=America/New_York:20250719T130000
DTSTAMP:20260420T013653
CREATED:20250228T165112Z
LAST-MODIFIED:20250604T210305Z
UID:1559-1752919200-1752930000@www.holidayparktc.com
SUMMARY:Bark in the Park
DESCRIPTION:Show off your furry friend in our Pet Parade\, enter them in the Pet Show for their best category\, and let your fur kid romp around in the 5 acre fully fenced dog park!
URL:https://www.holidayparktc.com/event/bark-in-the-park-3/
END:VEVENT
BEGIN:VEVENT
DTSTART;TZID=America/New_York:20250717T180000
DTEND;TZID=America/New_York:20250717T200000
DTSTAMP:20260420T013653
CREATED:20250312T140006Z
LAST-MODIFIED:20250327T164726Z
UID:1608-1752775200-1752782400@www.holidayparktc.com
SUMMARY:Music w/TC Knuckleheads
DESCRIPTION:Come enjoy these Knuckleheads play some good music at the beach or check them out on facebook @ TCKnuckleheads
URL:https://www.holidayparktc.com/event/music-w-tc-knuckleheads/
END:VEVENT
BEGIN:VEVENT
DTSTART;TZID=America/New_York:20250712T110000
DTEND;TZID=America/New_York:20250712T190000
DTSTAMP:20260420T013653
CREATED:20250312T134217Z
LAST-MODIFIED:20250418T162236Z
UID:1602-1752318000-1752346800@www.holidayparktc.com
SUMMARY:The Dog Man Food Truck
DESCRIPTION:Come join us for a Doggone delicious hot dog at the beach.
URL:https://www.holidayparktc.com/event/the-dog-man/
END:VEVENT
BEGIN:VEVENT
DTSTART;TZID=America/New_York:20250710T180000
DTEND;TZID=America/New_York:20250710T200000
DTSTAMP:20260420T013653
CREATED:20250312T135701Z
LAST-MODIFIED:20250418T162254Z
UID:1606-1752170400-1752177600@www.holidayparktc.com
SUMMARY:Music w/Doc Probes
DESCRIPTION:Come listen and sing along with Doc Probes at the beach.  Check him out at Docprobes.com
URL:https://www.holidayparktc.com/event/music-w-doc-probes/
END:VEVENT
BEGIN:VEVENT
DTSTART;TZID=America/New_York:20250705T110000
DTEND;TZID=America/New_York:20250705T190000
DTSTAMP:20260420T013653
CREATED:20250311T190422Z
LAST-MODIFIED:20250327T154350Z
UID:1598-1751713200-1751742000@www.holidayparktc.com
SUMMARY:TC Taco Food Truck
DESCRIPTION:Come enjoy a beautiful scene and some yummy taco’s by the beach today.
URL:https://www.holidayparktc.com/event/tc-taco-truck/
END:VEVENT
BEGIN:VEVENT
DTSTART;TZID=America/New_York:20250703T180000
DTEND;TZID=America/New_York:20250703T200000
DTSTAMP:20260420T013653
CREATED:20250625T163415Z
LAST-MODIFIED:20250625T163417Z
UID:2040-1751565600-1751572800@www.holidayparktc.com
SUMMARY:The Narlnhoon Music
DESCRIPTION:
URL:https://www.holidayparktc.com/event/the-narlnhoon-music/
END:VEVENT
BEGIN:VEVENT
DTSTART;TZID=America/New_York:20250615T090000
DTEND;TZID=America/New_York:20250615T110000
DTSTAMP:20260420T013653
CREATED:20250228T163625Z
LAST-MODIFIED:20250228T163627Z
UID:1547-1749978000-1749985200@www.holidayparktc.com
SUMMARY:Coffee & Donuts to Celebrate Dads
DESCRIPTION:Join us at the pavilion near site 141 for coffee & donuts
URL:https://www.holidayparktc.com/event/coffee-donuts-to-celebrate-dads/
END:VEVENT
BEGIN:VEVENT
DTSTART;TZID=America/New_York:20250613T000000
DTEND;TZID=America/New_York:20250615T000000
DTSTAMP:20260420T013653
CREATED:20241223T142119Z
LAST-MODIFIED:20241223T142220Z
UID:1105-1749772800-1749945600@www.holidayparktc.com
SUMMARY:R-Pods Rally
DESCRIPTION:R-Pods Rally June 13 – 15\, 2025
URL:https://www.holidayparktc.com/event/r-pods-rally/
CATEGORIES:Public Events
END:VEVENT
BEGIN:VEVENT
DTSTART;TZID=America/New_York:20250607T180000
DTEND;TZID=America/New_York:20250607T200000
DTSTAMP:20260420T013653
CREATED:20250312T141526Z
LAST-MODIFIED:20250604T210023Z
UID:1610-1749319200-1749326400@www.holidayparktc.com
SUMMARY:Music w/Trent
DESCRIPTION:Join us at the beach with some good ole bluegrass music and relaxation. Check him out on Facebook @ Trentbreithauet
URL:https://www.holidayparktc.com/event/music-w-trent/
END:VEVENT
END:VCALENDAR