BEGIN:VCALENDAR
VERSION:2.0
PRODID:-//Holiday RV Park &amp; Campground - ECPv6.15.20//NONSGML v1.0//EN
CALSCALE:GREGORIAN
METHOD:PUBLISH
X-WR-CALNAME:Holiday RV Park &amp; Campground
X-ORIGINAL-URL:https://www.holidayparktc.com
X-WR-CALDESC:Events for Holiday RV Park &amp; Campground
REFRESH-INTERVAL;VALUE=DURATION:PT1H
X-Robots-Tag:noindex
X-PUBLISHED-TTL:PT1H
BEGIN:VTIMEZONE
TZID:America/New_York
BEGIN:DAYLIGHT
TZOFFSETFROM:-0500
TZOFFSETTO:-0400
TZNAME:EDT
DTSTART:20240310T070000
END:DAYLIGHT
BEGIN:STANDARD
TZOFFSETFROM:-0400
TZOFFSETTO:-0500
TZNAME:EST
DTSTART:20241103T060000
END:STANDARD
BEGIN:DAYLIGHT
TZOFFSETFROM:-0500
TZOFFSETTO:-0400
TZNAME:EDT
DTSTART:20250309T070000
END:DAYLIGHT
BEGIN:STANDARD
TZOFFSETFROM:-0400
TZOFFSETTO:-0500
TZNAME:EST
DTSTART:20251102T060000
END:STANDARD
BEGIN:DAYLIGHT
TZOFFSETFROM:-0500
TZOFFSETTO:-0400
TZNAME:EDT
DTSTART:20260308T070000
END:DAYLIGHT
BEGIN:STANDARD
TZOFFSETFROM:-0400
TZOFFSETTO:-0500
TZNAME:EST
DTSTART:20261101T060000
END:STANDARD
BEGIN:DAYLIGHT
TZOFFSETFROM:-0500
TZOFFSETTO:-0400
TZNAME:EDT
DTSTART:20270314T070000
END:DAYLIGHT
BEGIN:STANDARD
TZOFFSETFROM:-0400
TZOFFSETTO:-0500
TZNAME:EST
DTSTART:20271107T060000
END:STANDARD
END:VTIMEZONE
BEGIN:VEVENT
DTSTART;TZID=America/New_York:20260627T080000
DTEND;TZID=America/New_York:20260628T170000
DTSTAMP:20260422T104028
CREATED:20260312T180836Z
LAST-MODIFIED:20260312T183119Z
UID:2523-1782547200-1782666000@www.holidayparktc.com
SUMMARY:Caffeinated Coffee Truck
DESCRIPTION:Start your morning out right with a cup of coffee. Just head on down to the Caffeinated Coffee Truck located at our beach.
URL:https://www.holidayparktc.com/event/caffeinated-coffee-truck-5/
LOCATION:Private Beach for Guests Only
END:VEVENT
BEGIN:VEVENT
DTSTART;TZID=America/New_York:20260627T000000
DTEND;TZID=America/New_York:20260628T235959
DTSTAMP:20260422T104028
CREATED:20260325T171512Z
LAST-MODIFIED:20260325T172048Z
UID:2643-1782518400-1782691199@www.holidayparktc.com
SUMMARY:The RV and Boat Show
DESCRIPTION:Come out to the field by the dog park to find yourself a new RV or Boat. We will have some boats in the water at the beach to take on a test drive. The show starts on Saturday and will run all day into Sunday. This even is open to the public\, you do not need to be staying at the park to come. We will have the Caffeinated Coffee Truck and the Tots and Tots of Burgers Food Truck. There will be some prizes/giveaways.
URL:https://www.holidayparktc.com/event/rv-and-boat-show/
END:VEVENT
BEGIN:VEVENT
DTSTART;TZID=America/New_York:20260626T190000
DTEND;TZID=America/New_York:20260626T210000
DTSTAMP:20260422T104028
CREATED:20260325T164341Z
LAST-MODIFIED:20260401T170938Z
UID:2633-1782500400-1782507600@www.holidayparktc.com
SUMMARY:Live Music at the Beach: Reese Keelor
DESCRIPTION:Join us for live music at the Beach. Reese does covers of jazz\, blues\, folk\, rock\, and singer songwriter material. From Paul Simon\, Tom Waits\, John Prine\, and many more.
URL:https://www.holidayparktc.com/event/live-music-at-the-beach-reece-keelor/
LOCATION:Private Beach for Guests Only
END:VEVENT
BEGIN:VEVENT
DTSTART;TZID=America/New_York:20260626T120000
DTEND;TZID=America/New_York:20260628T150000
DTSTAMP:20260422T104028
CREATED:20260311T175726Z
LAST-MODIFIED:20260311T183939Z
UID:2482-1782475200-1782658800@www.holidayparktc.com
SUMMARY:Tot’s N Tot’s of Burgers
DESCRIPTION:We will have the Tot’s N Tot’s of Burgers food truck in the park. They have burgers\, tater tots and a variety of food mainly Mexican/American fusion. 
URL:https://www.holidayparktc.com/event/tots-n-tots-of-burgers-2/
LOCATION:Private Beach for Guests Only
END:VEVENT
BEGIN:VEVENT
DTSTART;TZID=America/New_York:20260621T090000
DTEND;TZID=America/New_York:20260621T110000
DTSTAMP:20260422T104028
CREATED:20260325T165753Z
LAST-MODIFIED:20260325T165756Z
UID:2641-1782032400-1782039600@www.holidayparktc.com
SUMMARY:Father's Day Donuts with Dads
DESCRIPTION:Celebrate all the wonderful dads in the campground with a sweet morning treat. Stop by the pavilion with your family to enjoy coffee\, muffins\, and donuts
URL:https://www.holidayparktc.com/event/fathers-day-donuts-with-dads/
LOCATION:Pavilion for Guest Use
END:VEVENT
BEGIN:VEVENT
DTSTART;TZID=America/New_York:20260619T190000
DTEND;TZID=America/New_York:20260619T210000
DTSTAMP:20260422T104028
CREATED:20260325T163428Z
LAST-MODIFIED:20260414T134916Z
UID:2631-1781895600-1781902800@www.holidayparktc.com
SUMMARY:Live Music at the Beach: Scott Foor
DESCRIPTION:Join us for live music at the beach. \n\n\n\nReal stories\, no gloss.Scott Foor is a singer/songwriter and guitarist whose music is rooted in real life. It isequal parts hard work and heartache. \n\n\n\nBorn in a small town near Saginaw\, MI\, Scott’s earliest musical influence came fromfamily gatherings where his grandmother would play Hank Williams and Willie Nelson.Those formative sounds influenced his musical storytelling with honesty and tradition.Like his hero\, John Prine\, Scott finds meaning in everyday life. His artistic voicetransmutes the ordinary into something lasting and resonant. \n\n\n\nTwo years ago\, Scott relocated to Traverse City where he began carving out his path inthe music scene. Through countless open mic nights\, he found his voice and theconfidence to tell his stories the way they were meant to be told; unfiltered andunapologetic. \n\n\n\nScott’s work has grit; it’s honest\, lived-in\, and palpably real. Look no further for musicthat’s unpretentious\, heartfelt\, and true.
URL:https://www.holidayparktc.com/event/live-music-at-the-beach/
LOCATION:Private Beach for Guests Only
END:VEVENT
BEGIN:VEVENT
DTSTART;TZID=America/New_York:20260619T120000
DTEND;TZID=America/New_York:20260619T210000
DTSTAMP:20260422T104028
CREATED:20260325T164916Z
LAST-MODIFIED:20260326T183543Z
UID:2639-1781870400-1781902800@www.holidayparktc.com
SUMMARY:Food Truck at the Beach: TBD
DESCRIPTION:Come on down to the beach for a tasty meal.
URL:https://www.holidayparktc.com/event/food-truck-at-the-beach/
LOCATION:Private Beach for Guests Only
END:VEVENT
BEGIN:VEVENT
DTSTART;TZID=America/New_York:20260618T110000
DTEND;TZID=America/New_York:20260621T140000
DTSTAMP:20260422T104028
CREATED:20260318T181216Z
LAST-MODIFIED:20260318T181218Z
UID:2563-1781780400-1782050400@www.holidayparktc.com
SUMMARY:R-Pods Rally
DESCRIPTION:This will be the 7th consecutive R-pod rally held at Holiday. There will be potlucks and campfires\, a Pittspitters game at Turtle Creek Stadium\, there will be promotional giveaways\, and a “Tour ‘de R-Pod” where those willing to open up their R-Pods to fellow campers get an opportunity to show others what improvements they’ve made. This Rally is very laid back and has a friendly atmosphere. For more information please see the link below.
URL:https://www.holidayparktc.com/event/r-pods-rally-2/
END:VEVENT
BEGIN:VEVENT
DTSTART;TZID=America/New_York:20260618T080000
DTEND;TZID=America/New_York:20260621T170000
DTSTAMP:20260422T104028
CREATED:20260312T180754Z
LAST-MODIFIED:20260312T183156Z
UID:2524-1781769600-1782061200@www.holidayparktc.com
SUMMARY:Caffeinated Coffee Truck
DESCRIPTION:Start your morning out right with a cup of coffee. Just head on down to the Caffeinated Coffee Truck located at our beach.
URL:https://www.holidayparktc.com/event/caffeinated-coffee-truck-4/
LOCATION:Private Beach for Guests Only
END:VEVENT
BEGIN:VEVENT
DTSTART;TZID=America/New_York:20260612T190000
DTEND;TZID=America/New_York:20260612T210000
DTSTAMP:20260422T104028
CREATED:20260319T161730Z
LAST-MODIFIED:20260325T162024Z
UID:2572-1781290800-1781298000@www.holidayparktc.com
SUMMARY:Live Music at the Beach: Les Older
DESCRIPTION:Join us for live music at the Beach. Pull up a chair\, grab a beverage\, and lend your ears to Les Older. Les is an emotional alien trapped in a human shell. Sent to Earth on a pathway of celestial music notes. Music is his main language\, but he is totally fluent in English! Nowadays you’ll find him in the form of a 67 year old well seasoned musician on a journey with MS while loving life to its fullest. Les will be performing originals and covers he makes his own. A one man band\, looping live unlimited instruments due to modern technology. Les is in the process of recording a 10 song album at Mark Lavengood’s\, Bear Mark Productions Studio. Les’s main mission in this world is to simply be a good human.
URL:https://www.holidayparktc.com/event/live-music-les-older/
LOCATION:Private Beach for Guests Only
END:VEVENT
BEGIN:VEVENT
DTSTART;TZID=America/New_York:20260612T080000
DTEND;TZID=America/New_York:20260614T170000
DTSTAMP:20260422T104028
CREATED:20260312T180634Z
LAST-MODIFIED:20260312T182834Z
UID:2520-1781251200-1781456400@www.holidayparktc.com
SUMMARY:Caffeinated Coffee Truck
DESCRIPTION:Start your morning out right with a cup of coffee. Just head on down to the Caffeinated Coffee Truck located at our beach.
URL:https://www.holidayparktc.com/event/caffeinated-coffee-truck-3/
LOCATION:Private Beach for Guests Only
END:VEVENT
BEGIN:VEVENT
DTSTART;TZID=America/New_York:20260610T110000
DTEND;TZID=America/New_York:20260614T140000
DTSTAMP:20260422T104028
CREATED:20260318T171947Z
LAST-MODIFIED:20260416T181254Z
UID:2561-1781089200-1781445600@www.holidayparktc.com
SUMMARY:Sip of the Northern Mitt. Airstream International Grapes & Grains Rally.
DESCRIPTION:For more detailed information on how to become a part of the Rally please see the link below. Kick off the Summer 2026 on the beautiful Leelanau Peninsula\, where you will be surrounded by Lake Michigan. Leelanau is home to over 30 wineries\, breweries\, and distilleries. It is also home to Sleeping Bear National Lakeshore. It is full of opportunities to hike and bike. You can also go see some of the picturesque lakeside towns that are waiting to be explored.There will be:6 winery visits with tastings (food will be provided at one winery each day)A welcome potluck (main dish provided) where we will hear about the history of the region’s wineries from the owners of one of the original vineyards on the peninsulaTwo catered dinners and rally campfiresA “free day” to explore more of the region\, or join in at a local brewery for a late lunch and local music (pizza provided)Bus transportation for the winery visits where light snacks and water will provided on the busesAnd you will receive a commemorative wine glass.
URL:https://www.holidayparktc.com/event/sip-of-the-northern-mitt-airstream-international-grapes-grains-rally/
END:VEVENT
BEGIN:VEVENT
DTSTART;TZID=America/New_York:20260605T190000
DTEND;TZID=America/New_York:20260605T210000
DTSTAMP:20260422T104028
CREATED:20260319T151425Z
LAST-MODIFIED:20260325T162333Z
UID:2566-1780686000-1780693200@www.holidayparktc.com
SUMMARY:Live Music at the Beach: Billy and The Kid Duo
DESCRIPTION:Join us for live music at the beach. Billy and The Kid Duo are a new\, exciting dynamic guitar and mandolin duo rocking the Leelanau peninsula!
URL:https://www.holidayparktc.com/event/live-music-3/
LOCATION:Private Beach for Guests Only
END:VEVENT
BEGIN:VEVENT
DTSTART;TZID=America/New_York:20260604T090000
DTEND;TZID=America/New_York:20260608T120000
DTSTAMP:20260422T104028
CREATED:20260312T180150Z
LAST-MODIFIED:20260326T183312Z
UID:2515-1780563600-1780920000@www.holidayparktc.com
SUMMARY:Silver on Silver Lake Airstream Rally
DESCRIPTION:The Michigan Airstream Club (MAC) is a friendly group of Airstream owners who enjoy camaraderie. MAC seeks out opportunities to camp whenever they can in Michigan to enjoy the beautiful spring\, summer\, and fall seasons. They are a diverse cross section of working and retired couples\, singles\, and families. For more detailed information on how to become a part of the MAC Family please see the link below.
URL:https://www.holidayparktc.com/event/silver-on-silver-lake-airstream-rally-2/
END:VEVENT
BEGIN:VEVENT
DTSTART;TZID=America/New_York:20260524T113000
DTEND;TZID=America/New_York:20260524T140000
DTSTAMP:20260422T104028
CREATED:20260311T170244Z
LAST-MODIFIED:20260312T184919Z
UID:2469-1779622200-1779631200@www.holidayparktc.com
SUMMARY:Memorial Day Corn Hole Tournament
DESCRIPTION:Bring the whole family out for some friendly competition and Holiday fun. Players of all ages and skill levels are welcome\, whether you are playing to win or it’s your first time tossing the bags. Grab a partner\, meet fellow campers\, and enjoy our annual Memorial Day corn hole tournament.
URL:https://www.holidayparktc.com/event/moms-and-muffins/
LOCATION:Pavilion for Guest Use
END:VEVENT
BEGIN:VEVENT
DTSTART;TZID=America/New_York:20260522T190000
DTEND;TZID=America/New_York:20260522T210000
DTSTAMP:20260422T104028
CREATED:20260311T165244Z
LAST-MODIFIED:20260325T162435Z
UID:2466-1779476400-1779483600@www.holidayparktc.com
SUMMARY:Live Music at the beach: Jazz Cabbage
DESCRIPTION:Jazz Cabbage draws from a large repertoire of cover tunes and a deep pool of musical influences. They play anything from psychedelic to surf rock to soul\, swing\, honky-tonk\, bossa nova\, calypso\, flamenco\, jazz\, and pop hits from the 30s through the 2000s. Be sure to bring a chair.
URL:https://www.holidayparktc.com/event/live-music-jazz-cabbage/
END:VEVENT
BEGIN:VEVENT
DTSTART;TZID=America/New_York:20260522T120000
DTEND;TZID=America/New_York:20260522T210000
DTSTAMP:20260422T104028
CREATED:20260311T164051Z
LAST-MODIFIED:20260416T180955Z
UID:2464-1779451200-1779483600@www.holidayparktc.com
SUMMARY:Tot's N Tot's of Burgers
DESCRIPTION:We will have Tot’s N Tot’s of Burgers food truck in the park. They have burgers\, tater tots\, and a variety of food\, mainly Mexican/American fusion.
URL:https://www.holidayparktc.com/event/tots-n-tots-of-burgers/
LOCATION:Private Beach for Guests Only
END:VEVENT
BEGIN:VEVENT
DTSTART;TZID=America/New_York:20260510T090000
DTEND;TZID=America/New_York:20260510T110000
DTSTAMP:20260422T104028
CREATED:20260311T171932Z
LAST-MODIFIED:20260311T173405Z
UID:2473-1778403600-1778410800@www.holidayparktc.com
SUMMARY:Mother's Day Muffins With Mom
DESCRIPTION:Celebrate all the wonderful moms in the campground with a sweet morning treat. Stop by the pavilion with your family to enjoy coffee\, muffins\, and donuts.
URL:https://www.holidayparktc.com/event/mothers-day-muffins-with-mom/
LOCATION:Pavilion for Guest Use
END:VEVENT
BEGIN:VEVENT
DTSTART;TZID=America/New_York:20260501T090000
DTEND;TZID=America/New_York:20260501T170000
DTSTAMP:20260422T104028
CREATED:20260311T160419Z
LAST-MODIFIED:20260312T191615Z
UID:2458-1777626000-1777654800@www.holidayparktc.com
SUMMARY:Opening Day at Holiday! :)
DESCRIPTION:Let the 2026 camping season begin!  We are happy to welcome back our returning guests and extend a warm welcome to all our new campers.
URL:https://www.holidayparktc.com/event/opening-day/
END:VEVENT
BEGIN:VEVENT
DTSTART;TZID=America/New_York:20260420T090000
DTEND;TZID=America/New_York:20260420T160000
DTSTAMP:20260422T104028
CREATED:20260414T172235Z
LAST-MODIFIED:20260416T180129Z
UID:2795-1776675600-1776700800@www.holidayparktc.com
SUMMARY:Storage Opens for the Season
DESCRIPTION:Storage opens for the season. \n\n\n\nCome check on your storage items after the long winter.
URL:https://www.holidayparktc.com/event/storage-opens-for-the-season/
LOCATION:Storage
END:VEVENT
BEGIN:VEVENT
DTSTART;TZID=America/New_York:20251005T090000
DTEND;TZID=America/New_York:20251005T110000
DTSTAMP:20260422T104028
CREATED:20250228T164729Z
LAST-MODIFIED:20250228T164731Z
UID:1557-1759654800-1759662000@www.holidayparktc.com
SUMMARY:Coffee\, Cider & Donuts
DESCRIPTION:Join us at the pavilion near site 141
URL:https://www.holidayparktc.com/event/coffee-cider-donuts-2/
END:VEVENT
BEGIN:VEVENT
DTSTART;TZID=America/New_York:20251003T170000
DTEND;TZID=America/New_York:20251005T110000
DTSTAMP:20260422T104028
CREATED:20250228T170219Z
LAST-MODIFIED:20250604T210752Z
UID:1567-1759510800-1759662000@www.holidayparktc.com
SUMMARY:Halloween Weekend 2
DESCRIPTION:Trick or Treating\, Costume Contest\, Site Decorating Contest\, S’mores\, Hayrides\, Pumpkin carving\, Crafts\, Face Painting\, Cider & Donuts
URL:https://www.holidayparktc.com/event/halloween-weekend-2/
END:VEVENT
BEGIN:VEVENT
DTSTART;TZID=America/New_York:20250928T090000
DTEND;TZID=America/New_York:20250928T110000
DTSTAMP:20260422T104028
CREATED:20250228T164616Z
LAST-MODIFIED:20250228T164617Z
UID:1555-1759050000-1759057200@www.holidayparktc.com
SUMMARY:Coffee\, Cider & Donuts
DESCRIPTION:Join us at the pavilion near site 141
URL:https://www.holidayparktc.com/event/coffee-cider-donuts/
END:VEVENT
BEGIN:VEVENT
DTSTART;TZID=America/New_York:20250926T170000
DTEND;TZID=America/New_York:20250928T110000
DTSTAMP:20260422T104028
CREATED:20250228T165958Z
LAST-MODIFIED:20250604T210727Z
UID:1565-1758906000-1759057200@www.holidayparktc.com
SUMMARY:Halloween Weekend 1
DESCRIPTION:Trick or Treating\, Costume Contest\, Site Decorating Contest\, S’mores\, Hayrides\, Pumpkin carving\, Crafts\, Face Painting\, Cider & Donuts
URL:https://www.holidayparktc.com/event/halloween-weekend-1/
END:VEVENT
BEGIN:VEVENT
DTSTART;TZID=America/New_York:20250914T080000
DTEND;TZID=America/New_York:20250921T170000
DTSTAMP:20260422T104028
CREATED:20241223T142859Z
LAST-MODIFIED:20250226T175517Z
UID:1110-1757836800-1758474000@www.holidayparktc.com
SUMMARY:Great Lakes Regional Rally
DESCRIPTION:Great Lakes Regional Rally September 14 – 21\, 2025  \nMontana Owners
URL:https://www.holidayparktc.com/event/great-lakes-regional-rally/
CATEGORIES:Public Events
END:VEVENT
BEGIN:VEVENT
DTSTART;TZID=America/New_York:20250904T140000
DTEND;TZID=America/New_York:20250907T110000
DTSTAMP:20260422T104028
CREATED:20241223T142713Z
LAST-MODIFIED:20250227T173947Z
UID:1108-1756994400-1757242800@www.holidayparktc.com
SUMMARY:Traverse City Alliance FamAlly Rally
DESCRIPTION:We are excited for our 3rd Rally and to share this amazing campground and the greater Traverse City\, Michigan area with all our fellow Alliance owners!   \n\n\n\nRegistration open until July 31\, 2025 or until all spots are filled.   \n\n\n\nPlease fill out the registration form at this link and the campground will give you a call for the deposit.  Please do not book online as the sites for the rally are set aside for those who fill out the form.  Registration Link
URL:https://www.holidayparktc.com/event/alliance-famally-traverse-city-rally/
CATEGORIES:Public Events
END:VEVENT
BEGIN:VEVENT
DTSTART;TZID=America/New_York:20250830T110000
DTEND;TZID=America/New_York:20250830T190000
DTSTAMP:20260422T104028
CREATED:20250418T133618Z
LAST-MODIFIED:20250418T162526Z
UID:1788-1756551600-1756580400@www.holidayparktc.com
SUMMARY:Bougie Brisket Food Truck
DESCRIPTION:Come get your Bougie on with some Brisket at the beach
URL:https://www.holidayparktc.com/event/bougie-brisket-food-truck-2/
END:VEVENT
BEGIN:VEVENT
DTSTART;TZID=America/New_York:20250828T180000
DTEND;TZID=America/New_York:20250828T200000
DTSTAMP:20260422T104028
CREATED:20250318T153842Z
LAST-MODIFIED:20250819T202243Z
UID:1685-1756404000-1756411200@www.holidayparktc.com
SUMMARY:Music Chris Thaxton
DESCRIPTION:Join us at the pavilion to enjoy this one-man band easy listening acoustic style performance!
URL:https://www.holidayparktc.com/event/music-w-neighborhood-dogs-2/
END:VEVENT
BEGIN:VEVENT
DTSTART;TZID=America/New_York:20250823T110000
DTEND;TZID=America/New_York:20250823T190000
DTSTAMP:20260422T104028
CREATED:20250421T194906Z
LAST-MODIFIED:20250421T194915Z
UID:1816-1755946800-1755975600@www.holidayparktc.com
SUMMARY:Mac Attack Food Truck
DESCRIPTION:Come enjoy a twist on macaroni at the beach
URL:https://www.holidayparktc.com/event/mac-attack-food-truck/
END:VEVENT
BEGIN:VEVENT
DTSTART;TZID=America/New_York:20250821T073000
DTEND;TZID=America/New_York:20250821T200000
DTSTAMP:20260422T104028
CREATED:20250318T151128Z
LAST-MODIFIED:20250418T162441Z
UID:1683-1755761400-1755806400@www.holidayparktc.com
SUMMARY:Music w/Doc Probes
DESCRIPTION:Come listen and sing along with Doc Probes at the beach. Check him out at Docprobes.com
URL:https://www.holidayparktc.com/event/music-w-doc-probes-2/
END:VEVENT
END:VCALENDAR